BEGIN:VCALENDAR
VERSION:2.0
PRODID:-//Web Ayuntamiento de Alpedrete - ECPv5.0.2.1//NONSGML v1.0//EN
CALSCALE:GREGORIAN
METHOD:PUBLISH
X-WR-CALNAME:Web Ayuntamiento de Alpedrete
X-ORIGINAL-URL:https://www.alpedrete.es
X-WR-CALDESC:Eventos para Web Ayuntamiento de Alpedrete
BEGIN:VTIMEZONE
TZID:Europe/Madrid
BEGIN:DAYLIGHT
TZOFFSETFROM:+0100
TZOFFSETTO:+0200
TZNAME:CEST
DTSTART:20170326T010000
END:DAYLIGHT
BEGIN:STANDARD
TZOFFSETFROM:+0200
TZOFFSETTO:+0100
TZNAME:CET
DTSTART:20171029T010000
END:STANDARD
END:VTIMEZONE
BEGIN:VEVENT
DTSTART;TZID=Europe/Madrid:20170128T180000
DTEND;TZID=Europe/Madrid:20170128T190000
DTSTAMP:20260422T172017
CREATED:20170105T082809Z
LAST-MODIFIED:20170105T082809Z
UID:11220-1485626400-1485630000@www.alpedrete.es
SUMMARY:Teatro familiar. "Maleta. Misión espacial secreta"
DESCRIPTION:En un futuro muy pero que muy futuro\, cuando muchos planetas\, satélites\, asteroides y estaciones espaciales de nuestra galaxia ya están habitados\, y todas sus gentes viven en paz y armonía… un joven terrícola embarca de incógnito en la nave “Siesta Interestelar”. Tiene un plan para salvar a los habitantes del satélite minero Brieva que viven aterrados desde que\, por una extraña avería\, sus bio-robots trituradores comenzaron a atacarlos. Su misión es secreta. La ley del olvido ordena aislar cualquier astro con problemas y prohíbe el contacto con sus habitantes para preservar así la paz\, el plácido reposo de la galaxia. \nPrecio de las entradas: 6€ tarifa general y 3€ tarifa reducida. Reserva anticipada de entradas desde el lunes 23 de enero de 2017 en la Casa de Cultura Asunción Balaguer o en el 918571590. \n  \n
URL:https://www.alpedrete.es/evento/teatro-familiar-maleta-mision-espacial-secreta/
LOCATION:Casa de Cultura Asunción Balaguer\, Plaza Francisco Rabal\, 2\, Alpedrete\, Madrid\, 28430 \, España
CATEGORIES:Teatro
ATTACH;FMTTYPE=image/png:https://www.alpedrete.es/wp-content/uploads/2017/01/maleta-mision-secreta.png
END:VEVENT
END:VCALENDAR