BEGIN:VCALENDAR
VERSION:2.0
PRODID:-//Web Ayuntamiento de Alpedrete - ECPv5.0.2.1//NONSGML v1.0//EN
CALSCALE:GREGORIAN
METHOD:PUBLISH
X-WR-CALNAME:Web Ayuntamiento de Alpedrete
X-ORIGINAL-URL:https://www.alpedrete.es
X-WR-CALDESC:Eventos para Web Ayuntamiento de Alpedrete
BEGIN:VTIMEZONE
TZID:Europe/Madrid
BEGIN:DAYLIGHT
TZOFFSETFROM:+0100
TZOFFSETTO:+0200
TZNAME:CEST
DTSTART:20160327T010000
END:DAYLIGHT
BEGIN:STANDARD
TZOFFSETFROM:+0200
TZOFFSETTO:+0100
TZNAME:CET
DTSTART:20161030T010000
END:STANDARD
END:VTIMEZONE
BEGIN:VEVENT
DTSTART;TZID=Europe/Madrid:20161029T180000
DTEND;TZID=Europe/Madrid:20161029T190000
DTSTAMP:20260422T195809
CREATED:20160928T132931Z
LAST-MODIFIED:20161021T112606Z
UID:9491-1477764000-1477767600@www.alpedrete.es
SUMMARY:Teatro: "Moby Dick"
DESCRIPTION:Ismael se embarca en el Pequod\, barco ballenero al mando del capitán Akab. Durante su viaje disfruta de los placeres de la vida en el mar\, hace amigos y\, aprende a reconocer a los distintos tipos de ballenas… Sin embargo\, el obsesivo deseo de venganza del Capitán Akab contra Moby Dick la ballena blanca\, conducirá al Pequod y a la tripulación a la desgracia.  Una magnífica puesta en escena de este clásico de la literatura a cargo de la Compañía Vuelca de Tuerca. \nEdad recomendada a partir de 6 años. \nPrecio: 6€ entrada general y 3€ entrada reducida. Reserva anticipada de entradas desde el lunes 24 de octubre en el 918571590. \n  \n  \n
URL:https://www.alpedrete.es/evento/moby-dick/
LOCATION:Casa de Cultura Asunción Balaguer\, Plaza Francisco Rabal\, 2\, Alpedrete\, Madrid\, 28430 \, España
CATEGORIES:Teatro
ATTACH;FMTTYPE=image/jpeg:https://www.alpedrete.es/wp-content/uploads/2016/09/MobyDick.jpg
END:VEVENT
END:VCALENDAR