BEGIN:VCALENDAR
VERSION:2.0
PRODID:-//Web Ayuntamiento de Alpedrete - ECPv5.0.2.1//NONSGML v1.0//EN
CALSCALE:GREGORIAN
METHOD:PUBLISH
X-WR-CALNAME:Web Ayuntamiento de Alpedrete
X-ORIGINAL-URL:https://www.alpedrete.es
X-WR-CALDESC:Eventos para Web Ayuntamiento de Alpedrete
BEGIN:VTIMEZONE
TZID:Europe/Madrid
BEGIN:DAYLIGHT
TZOFFSETFROM:+0100
TZOFFSETTO:+0200
TZNAME:CEST
DTSTART:20160327T010000
END:DAYLIGHT
BEGIN:STANDARD
TZOFFSETFROM:+0200
TZOFFSETTO:+0100
TZNAME:CET
DTSTART:20161030T010000
END:STANDARD
END:VTIMEZONE
BEGIN:VEVENT
DTSTART;TZID=Europe/Madrid:20160917T180000
DTEND;TZID=Europe/Madrid:20160917T190000
DTSTAMP:20260422T212253
CREATED:20160817T132406Z
LAST-MODIFIED:20160817T132406Z
UID:8898-1474135200-1474138800@www.alpedrete.es
SUMMARY:Teatro: "Lana de Luna" de Ñas Teatro
DESCRIPTION:Para los más pequeños\, de 3 meses a 6 años. \nUna oveja que nace\, una araña que teje\, una bufanda musical y una maraña de imágenes\, despertará emociones y activará la curiosidad de los más pequeños. En este espectáculo la lana se convierte en elemento transformador de un espacio en blanco que poco a poco se va llenando de color. Descubriremos de una manera lúdica de dónde viene la lana y la infinidad de cosas que podemos hacer con ella. \nPrecio: 4€ entrada general y 2€ reducida. Menores de 1 año gratis. Reserva anticipada de entradas desde el lunes 12 de septiembre en el 918571590. \n
URL:https://www.alpedrete.es/evento/teatro-lana-luna-nas-teatro/
LOCATION:Casa de Cultura Asunción Balaguer\, Plaza Francisco Rabal\, 2\, Alpedrete\, Madrid\, 28430 \, España
CATEGORIES:Teatro
ATTACH;FMTTYPE=image/jpeg:https://www.alpedrete.es/wp-content/uploads/2016/08/lana-de-luna-cartel.jpg
END:VEVENT
END:VCALENDAR