BEGIN:VCALENDAR
VERSION:2.0
PRODID:-//Web Ayuntamiento de Alpedrete - ECPv5.0.2.1//NONSGML v1.0//EN
CALSCALE:GREGORIAN
METHOD:PUBLISH
X-WR-CALNAME:Web Ayuntamiento de Alpedrete
X-ORIGINAL-URL:https://www.alpedrete.es
X-WR-CALDESC:Eventos para Web Ayuntamiento de Alpedrete
BEGIN:VTIMEZONE
TZID:Europe/Madrid
BEGIN:DAYLIGHT
TZOFFSETFROM:+0100
TZOFFSETTO:+0200
TZNAME:CEST
DTSTART:20250330T010000
END:DAYLIGHT
BEGIN:STANDARD
TZOFFSETFROM:+0200
TZOFFSETTO:+0100
TZNAME:CET
DTSTART:20251026T010000
END:STANDARD
END:VTIMEZONE
BEGIN:VEVENT
DTSTART;TZID=Europe/Madrid:20251222T110000
DTEND;TZID=Europe/Madrid:20251226T140000
DTSTAMP:20260420T050345
CREATED:20251204T133100Z
LAST-MODIFIED:20251204T133100Z
UID:153614-1766401200-1766757600@www.alpedrete.es
SUMMARY:Taller de podcast
DESCRIPTION:\n\nLa concejalía de Juventud pone en marcha este taller dentro de su programación especial de Navidad. Enseñaremos paso a paso cómo se crea un programa desde cero. Durante las sesiones\, los participantes elaborarán sus propios contenidos\, prepararán pequeños guiones\, aprenderán a utilizar el equipo técnico básico y realizarán la grabación y edición de sus audios para escuchar cómo sonarían en un programa de radio. \nFechas y horarioLunes 22\, martes 23 y viernes 26 de diciembre\, de 11:00 a 14:00 h. \nEdadesA partir de 12 años (nacidos en 2013). \nInscripciónEs necesaria inscripción previa a través del formulario: https://form.jotform.com/253035314974356 \n\n\n¿Conoces toda la programación de Navidad que tenemos preparada en Alpedrete? consúltala aquí \n\n\n\n\n\n\n\n\n\n\n
URL:https://www.alpedrete.es/evento/taller-de-podcast/
LOCATION:Centro de Juventud\, Félix Díaz\, 3\, Alpedrete\, España
CATEGORIES:Carnaval,Taller
ATTACH;FMTTYPE=image/jpeg:https://www.alpedrete.es/wp-content/uploads/2025/12/instagram-1080x1350-podcast-01-bajA-.jpg
END:VEVENT
END:VCALENDAR