BEGIN:VCALENDAR
VERSION:2.0
PRODID:-//Web Ayuntamiento de Alpedrete - ECPv5.0.2.1//NONSGML v1.0//EN
CALSCALE:GREGORIAN
METHOD:PUBLISH
X-WR-CALNAME:Web Ayuntamiento de Alpedrete
X-ORIGINAL-URL:https://www.alpedrete.es
X-WR-CALDESC:Eventos para Web Ayuntamiento de Alpedrete
BEGIN:VTIMEZONE
TZID:Europe/Madrid
BEGIN:DAYLIGHT
TZOFFSETFROM:+0100
TZOFFSETTO:+0200
TZNAME:CEST
DTSTART:20210328T010000
END:DAYLIGHT
BEGIN:STANDARD
TZOFFSETFROM:+0200
TZOFFSETTO:+0100
TZNAME:CET
DTSTART:20211031T010000
END:STANDARD
END:VTIMEZONE
BEGIN:VEVENT
DTSTART;TZID=Europe/Madrid:20211114T095000
DTEND;TZID=Europe/Madrid:20211114T120000
DTSTAMP:20260421T055901
CREATED:20211111T113109Z
LAST-MODIFIED:20211111T113109Z
UID:37603-1636883400-1636891200@www.alpedrete.es
SUMMARY:Jornada por el Día Mundial de la Diabetes
DESCRIPTION:Puedes encontrar toda la información sobre las jornadas en la noticia: https://www.alpedrete.es/alpedrete-celebrara-las-jornadas-del-dia-mundial-de-la-diabetes/  \nEl programa es el siguiente: \n09:50 Bienvenida Día Mundial de la Diabetes 2021. “Acceso a cuidados de la Diabetes. Si no ahora\, ¿cuándo?” \nJuan Rodríguez Fernández Alfaro – Alcalde de Alpedrete\nAdrián Muñoz de Rodrigo – Concejal de Salud\, Agenda 2030\, Urbanismo y Medio Ambiente de Alpedrete.\nPilar Martínez Gimeno – Presidenta de Asociación Diabetes Madrid\nMarta Marbán de Frutos – Presidenta de la Comisión de Sanidad de la Asamblea de Madrid \n10:15 –“100 años de insulina” \nAvances de la terapia con insulina en personas con diabetes.\nElena González Langa – Enfermera educadora en diabetes en el Centro de Atención Primaria de Alpedrete. \n10:45 “Comer saludable dentro y fuera de casa” \nConsejos prácticos para cuidar nuestra alimentación día a día.\nEsperanza Jiménez Castro – Enfermera educadora en diabetes del Hospital Universitario Sanitas La Zarzuela. \n11:15 “Mi rutina de ejercicio físico” \nDiferentes formas de mantenerse en forma.\nColoquio y experiencias de personas con diabetes. \n11:45 Cierre. \n12:00 Caminata Solidaria del Día Mundial de la Diabetes 2021 ADM (5kms). \nSalida desde la Plaza Francisco Rabal de Alpedrete \n
URL:https://www.alpedrete.es/evento/jornada-por-el-dia-mundial-de-la-diabetes/
LOCATION:Casa de Cultura Asunción Balaguer\, Plaza Francisco Rabal\, 2\, Alpedrete\, Madrid\, 28430 \, España
CATEGORIES:Salud
ATTACH;FMTTYPE=image/jpeg:https://www.alpedrete.es/wp-content/uploads/2021/11/Logo-Dia-Mundial.jpg
END:VEVENT
END:VCALENDAR