BEGIN:VCALENDAR
VERSION:2.0
PRODID:-//Web Ayuntamiento de Alpedrete - ECPv5.0.2.1//NONSGML v1.0//EN
CALSCALE:GREGORIAN
METHOD:PUBLISH
X-WR-CALNAME:Web Ayuntamiento de Alpedrete
X-ORIGINAL-URL:https://www.alpedrete.es
X-WR-CALDESC:Eventos para Web Ayuntamiento de Alpedrete
BEGIN:VTIMEZONE
TZID:Europe/Madrid
BEGIN:DAYLIGHT
TZOFFSETFROM:+0100
TZOFFSETTO:+0200
TZNAME:CEST
DTSTART:20180325T010000
END:DAYLIGHT
BEGIN:STANDARD
TZOFFSETFROM:+0200
TZOFFSETTO:+0100
TZNAME:CET
DTSTART:20181028T010000
END:STANDARD
END:VTIMEZONE
BEGIN:VEVENT
DTSTART;TZID=Europe/Madrid:20180412T173000
DTEND;TZID=Europe/Madrid:20180412T193000
DTSTAMP:20260423T032034
CREATED:20180411T123244Z
LAST-MODIFIED:20180411T123244Z
UID:20401-1523554200-1523561400@www.alpedrete.es
SUMMARY:Mindfulness e inteligencia emocional
DESCRIPTION:Taller destinado a las personas interesadas en aprender diferentes técnicas para reconocer\, comprender y gestionar mejor sus emociones. Todos los jueves del 12 de abril al 31 de mayo. Inscripciones en la Mancomunidad de Servicios Sociales THAM. Precio 6€ \n
URL:https://www.alpedrete.es/evento/mindfulness-e-inteligencia-emocional/
CATEGORIES:Salud
ATTACH;FMTTYPE=image/jpeg:https://www.alpedrete.es/wp-content/uploads/2018/04/yoga-2176668_640.jpg
END:VEVENT
END:VCALENDAR