BEGIN:VCALENDAR
VERSION:2.0
PRODID:-//Web Ayuntamiento de Alpedrete - ECPv5.0.2.1//NONSGML v1.0//EN
CALSCALE:GREGORIAN
METHOD:PUBLISH
X-WR-CALNAME:Web Ayuntamiento de Alpedrete
X-ORIGINAL-URL:https://www.alpedrete.es
X-WR-CALDESC:Eventos para Web Ayuntamiento de Alpedrete
BEGIN:VTIMEZONE
TZID:Europe/Madrid
BEGIN:DAYLIGHT
TZOFFSETFROM:+0100
TZOFFSETTO:+0200
TZNAME:CEST
DTSTART:20250330T010000
END:DAYLIGHT
BEGIN:STANDARD
TZOFFSETFROM:+0200
TZOFFSETTO:+0100
TZNAME:CET
DTSTART:20251026T010000
END:STANDARD
END:VTIMEZONE
BEGIN:VEVENT
DTSTART;TZID=Europe/Madrid:20250424T100000
DTEND;TZID=Europe/Madrid:20250424T140000
DTSTAMP:20260420T182144
CREATED:20250421T132352Z
LAST-MODIFIED:20250421T132352Z
UID:137634-1745488800-1745503200@www.alpedrete.es
SUMMARY:Pleno extraordinario
DESCRIPTION:El jueves 24 de abril a las 10:00 horas\, se ha convocado a los concejales de la corporación a sesión extraordinaria del Pleno. Dicha sesión se celebrará en en el Centro Cultural Asunción Balaguer y será transmitida en directo a través de este enlace. \nEl orden del día es el siguiente: \n1º.- Aprobación inicial del Presupuesto Municipal para el ejercicio económico 2025 (Expediente 1715/2025).\n2º.- Toma de conocimiento de la renuncia efectuada por D. Emilio Benayas Bevia como Concejal del Ayuntamiento de Alpedrete. (Expediente 2294/2025). \nPosteriormente a su celebración\, se podrá visualizar la sesión completa en el Canal de Plenos del Ayuntamiento de Alpedrete \n-Decreto de convocatoria Pleno extraordinario 24-4-25 \n  \n
URL:https://www.alpedrete.es/evento/pleno-extraordinario-33/
LOCATION:Centro Cultural Asunción Balaguer\, Plaza de Francisco Rabal\, Alpedrete\, Madrid\, 28430\, España
CATEGORIES:Pleno
ATTACH;FMTTYPE=image/png:https://www.alpedrete.es/wp-content/uploads/2025/04/PLENO-EXTRAORDINARIO-PRESUPESTO-MUNICIPAL-24-4.png
END:VEVENT
END:VCALENDAR