BEGIN:VCALENDAR
VERSION:2.0
PRODID:-//Web Ayuntamiento de Alpedrete - ECPv5.0.2.1//NONSGML v1.0//EN
CALSCALE:GREGORIAN
METHOD:PUBLISH
X-WR-CALNAME:Web Ayuntamiento de Alpedrete
X-ORIGINAL-URL:https://www.alpedrete.es
X-WR-CALDESC:Eventos para Web Ayuntamiento de Alpedrete
BEGIN:VTIMEZONE
TZID:Europe/Madrid
BEGIN:DAYLIGHT
TZOFFSETFROM:+0100
TZOFFSETTO:+0200
TZNAME:CEST
DTSTART:20190331T010000
END:DAYLIGHT
BEGIN:STANDARD
TZOFFSETFROM:+0200
TZOFFSETTO:+0100
TZNAME:CET
DTSTART:20191027T010000
END:STANDARD
END:VTIMEZONE
BEGIN:VEVENT
DTSTART;TZID=Europe/Madrid:20190615T180000
DTEND;TZID=Europe/Madrid:20190615T200000
DTSTAMP:20260421T104020
CREATED:20190611T104104Z
LAST-MODIFIED:20190611T104104Z
UID:26945-1560621600-1560628800@www.alpedrete.es
SUMMARY:Pleno de constitución de la nueva corporación municipal
DESCRIPTION:Convocada la sesión extraordinaria del Pleno para la Constitución de la nueva Corporación Municipal. Se celebrará el 15 de junio de 2019 a las 18:00 de la tarde en la Casa de Cultura Asunción Balaguer con el siguiente orden del día: \n\nPRIMERO. Constitución de la nueva Corporación Municipal\nSEGUNDO. Elección de Alcalde/sa\n\n Convocatoria para la celebración de la sesión constitutiva de la nueva Corporación Municipal.pdf \n
URL:https://www.alpedrete.es/evento/pleno-de-constitucion-de-la-nueva-corporacion-municipal/
LOCATION:Casa de Cultura Asunción Balaguer\, Plaza Francisco Rabal\, 2\, Alpedrete\, Madrid\, 28430 \, España
CATEGORIES:Pleno
ATTACH;FMTTYPE=image/jpeg:https://www.alpedrete.es/wp-content/uploads/2019/06/Sin-título-1-2.jpg
END:VEVENT
END:VCALENDAR