BEGIN:VCALENDAR
VERSION:2.0
PRODID:-//Web Ayuntamiento de Alpedrete - ECPv5.0.2.1//NONSGML v1.0//EN
CALSCALE:GREGORIAN
METHOD:PUBLISH
X-WR-CALNAME:Web Ayuntamiento de Alpedrete
X-ORIGINAL-URL:https://www.alpedrete.es
X-WR-CALDESC:Eventos para Web Ayuntamiento de Alpedrete
BEGIN:VTIMEZONE
TZID:Europe/Madrid
BEGIN:DAYLIGHT
TZOFFSETFROM:+0100
TZOFFSETTO:+0200
TZNAME:CEST
DTSTART:20180325T010000
END:DAYLIGHT
BEGIN:STANDARD
TZOFFSETFROM:+0200
TZOFFSETTO:+0100
TZNAME:CET
DTSTART:20181028T010000
END:STANDARD
END:VTIMEZONE
BEGIN:VEVENT
DTSTART;TZID=Europe/Madrid:20181226T113000
DTEND;TZID=Europe/Madrid:20181230T210000
DTSTAMP:20260420T050044
CREATED:20181221T125625Z
LAST-MODIFIED:20181221T125625Z
UID:24419-1545823800-1546203600@www.alpedrete.es
SUMMARY:#MiAlpedrete en #Navidad
DESCRIPTION:26-30 diciembre Actividades en la Carpa de la Navidad. Desde las 11:30 a las 21:00 h. \n\n26 diciembre\n\n11:30 h Apertura de hinchables\n12:30 h Taller de percusión-batucada (gratuito)\n13:30 h Circuito de karts – balanzbike. Plaza de la Villa\n18:30 h Karaoke Infantil (gratuito)\n21:00 h Cierre\n\n\n27 diciembre\n\n11:30 h Apertura de hinchables\n12:00 h Taller de chapas personalizadas(gratuito)\n13:30 h Circuito de karts – balanzbike. Plaza de la Villa\n19:30 h Espectáculo campeón de España freestyle fútbol (gratuito)\n21:00 h Cierre\n\n\n28 diciembre\n\n11:30 h Apertura de hinchables\n12:00 h Taller globoflexia (gratuito)\n13:30 h Circuito de karts – balanzbike Plaza de la Villa\n18:00 h Proyección de película (gratuito)\n21:00 h Cierre\n\n\n29 diciembre\n\n11:30 h Apertura de hinchables\n12:00 h Taller pinta caras (gratuito)\n13:30 h Circuito de karts – balanzbike Plaza de la Villa\n18:00 h Máster class de zumba niños y adultos (gratuito)\n21:00 h Cierre\n\n\n30 diciembre\n\n11:30 h Apertura de hinchables\n12:00 h Taller manualidades navideñas (gratuito)\n13:30 h Circuito de karts – balanzbike Plaza de la Villa\n18:30 h Peque disco móvil (gratuito)\n19:30 h Nochevieja anticipada (gratuito)\n21:00 h Cierre\n\n\n\n
URL:https://www.alpedrete.es/evento/mialpedrete-en-navidad/
LOCATION:Plaza de Francisco Rabal\, Plaza de Francisco Rabal s/n\, Alpedrete\, Madrid\, 28430\, España
CATEGORIES:Navidad
ATTACH;FMTTYPE=image/jpeg:https://www.alpedrete.es/wp-content/uploads/2018/12/actividades-navidad.jpg
END:VEVENT
BEGIN:VEVENT
DTSTART;TZID=Europe/Madrid:20181227T123000
DTEND;TZID=Europe/Madrid:20181227T133000
DTSTAMP:20260420T050044
CREATED:20181220T152504Z
LAST-MODIFIED:20181221T111141Z
UID:24398-1545913800-1545917400@www.alpedrete.es
SUMMARY:Taller de maquillaje navideño
DESCRIPTION:A cargo de con Judith Fernández-Salinero Sánchez. Inscripción a partir de 10 de diciembre en la Biblioteca Municipal   \nLa navidad es una época familiar pero también una época de historias. Desde el “Cuento de Navidad”  de Dickens hasta historias mucho menos contemporáneas como “Los Reyes Magos de Oriente”\,  estamos rodeados de personajes que nos acompañan en estas fechas.  El taller está orientado orientado a la creación de un personaje basado en esas historias desde el Cascanueces\, el Grinch\,  la Reina de las Nieves\, muñecos de nieve o Papá Noel hasta los más macabros\, pero también navideños\, como Krampus.  Se desarrollará la creación de un personaje basándonos en la técnica del bodypainting \,con maquillajes grasos y elaborando atrezo para crear un conjunto (estrellas\, brillos\, barras de caramelo\, sombreros\, etc).  \nDirigido a niñas y niños con edades comprendidas entre los 7 y los 12 años. \n#MiAlpedrete en Navidad. Programación completa \n
URL:https://www.alpedrete.es/evento/taller-de-maquillaje-navideno/
LOCATION:Biblioteca Municipal\, Plaza de Francisco Rabal\, 2\, Alpedrete\, Madrid\, 28430\, España
CATEGORIES:Taller,Navidad
ATTACH;FMTTYPE=image/jpeg:https://www.alpedrete.es/wp-content/uploads/2018/12/maquillaje-navidad.jpg
END:VEVENT
END:VCALENDAR