BEGIN:VCALENDAR
VERSION:2.0
PRODID:-//Web Ayuntamiento de Alpedrete - ECPv5.0.2.1//NONSGML v1.0//EN
CALSCALE:GREGORIAN
METHOD:PUBLISH
X-WR-CALNAME:Web Ayuntamiento de Alpedrete
X-ORIGINAL-URL:https://www.alpedrete.es
X-WR-CALDESC:Eventos para Web Ayuntamiento de Alpedrete
BEGIN:VTIMEZONE
TZID:Europe/Madrid
BEGIN:DAYLIGHT
TZOFFSETFROM:+0100
TZOFFSETTO:+0200
TZNAME:CEST
DTSTART:20180325T010000
END:DAYLIGHT
BEGIN:STANDARD
TZOFFSETFROM:+0200
TZOFFSETTO:+0100
TZNAME:CET
DTSTART:20181028T010000
END:STANDARD
END:VTIMEZONE
BEGIN:VEVENT
DTSTART;TZID=Europe/Madrid:20181224T120000
DTEND;TZID=Europe/Madrid:20181224T130000
DTSTAMP:20260420T050053
CREATED:20181217T132622Z
LAST-MODIFIED:20181217T132622Z
UID:24319-1545652800-1545656400@www.alpedrete.es
SUMMARY:Tren de la Navidad y Jumping
DESCRIPTION:22\, 23 y 24 de diciembre.Plaza de la Villa\, 12:00 h (Adquisición de tickes en los comercios adheridos a AECA: Centro Óptico Alpedrete\, Papelería Ráser\, Andalucía Sol Moda\, Panadería Burguillo\, Confecciones Hermanas Recio\, A&A Perfumería Angelines\, Arcylis\, Climasol perfumería\, Ferretería Cachinero y Farmaestro). \n
URL:https://www.alpedrete.es/evento/tren-de-la-navidad-y-jumping-2018-12-24/
LOCATION:Plaza de la Villa\, Plaza de la Villa\, Alpedrete\, 28430 \, España
CATEGORIES:Navidad
ATTACH;FMTTYPE=image/jpeg:https://www.alpedrete.es/wp-content/uploads/2018/12/tren-de-navidad-2.jpg
END:VEVENT
END:VCALENDAR