BEGIN:VCALENDAR
VERSION:2.0
PRODID:-//Web Ayuntamiento de Alpedrete - ECPv5.0.2.1//NONSGML v1.0//EN
CALSCALE:GREGORIAN
METHOD:PUBLISH
X-WR-CALNAME:Web Ayuntamiento de Alpedrete
X-ORIGINAL-URL:https://www.alpedrete.es
X-WR-CALDESC:Eventos para Web Ayuntamiento de Alpedrete
BEGIN:VTIMEZONE
TZID:Europe/Madrid
BEGIN:DAYLIGHT
TZOFFSETFROM:+0100
TZOFFSETTO:+0200
TZNAME:CEST
DTSTART:20160327T010000
END:DAYLIGHT
BEGIN:STANDARD
TZOFFSETFROM:+0200
TZOFFSETTO:+0100
TZNAME:CET
DTSTART:20161030T010000
END:STANDARD
END:VTIMEZONE
BEGIN:VEVENT
DTSTART;TZID=Europe/Madrid:20161126T110000
DTEND;TZID=Europe/Madrid:20161126T140000
DTSTAMP:20260419T132108
CREATED:20161115T124812Z
LAST-MODIFIED:20161115T124812Z
UID:10272-1480158000-1480168800@www.alpedrete.es
SUMMARY:Recogida de residuos
DESCRIPTION:El Ayuntamiento de Alpedrete ha organizado una recogida de residuos en la que pueden participar todos los ciudadanos que lo deseen. La cita es el día 26 de noviembre a las 11:00 de la mañana en la plaza de la Constitución desde donde los participantes irán a la zona de Arcilleros. \n
URL:https://www.alpedrete.es/evento/recogida-de-residuos/
LOCATION:Plaza de la Constitución\, Plaza de la Constitución\, Alpedrete\, Madrid\, 28430\, España
CATEGORIES:Medioambiente
ATTACH;FMTTYPE=image/jpeg:https://www.alpedrete.es/wp-content/uploads/2016/11/Residuos.jpg
END:VEVENT
END:VCALENDAR