BEGIN:VCALENDAR
VERSION:2.0
PRODID:-//Web Ayuntamiento de Alpedrete - ECPv5.0.2.1//NONSGML v1.0//EN
CALSCALE:GREGORIAN
METHOD:PUBLISH
X-WR-CALNAME:Web Ayuntamiento de Alpedrete
X-ORIGINAL-URL:https://www.alpedrete.es
X-WR-CALDESC:Eventos para Web Ayuntamiento de Alpedrete
BEGIN:VTIMEZONE
TZID:Europe/Madrid
BEGIN:DAYLIGHT
TZOFFSETFROM:+0100
TZOFFSETTO:+0200
TZNAME:CEST
DTSTART:20160327T010000
END:DAYLIGHT
BEGIN:STANDARD
TZOFFSETFROM:+0200
TZOFFSETTO:+0100
TZNAME:CET
DTSTART:20161030T010000
END:STANDARD
END:VTIMEZONE
BEGIN:VEVENT
DTSTART;TZID=Europe/Madrid:20160624T210000
DTEND;TZID=Europe/Madrid:20160624T230000
DTSTAMP:20260421T034836
CREATED:20160609T100552Z
LAST-MODIFIED:20160609T100552Z
UID:8097-1466802000-1466809200@www.alpedrete.es
SUMMARY:Historias mágicas en la Dehesa
DESCRIPTION:El Ayuntamiento de Alpedrete ha organizado una noche de cuentos mágicos para celebrar el solsticio de estío\, que marca el inicio de verano. Muchas poblaciones lo celebran coincidiendo con la noche de San Juan\, en la que se encienden hogueras simbolizando que el Sol tiene más fuerza y utilizando el fuego como elemento purificador. \nEn Alpedrete no habrá fuego\, pero sí historias mágicas protagonizadas por personajes fantásticos del bosque para celebrar la llegada del verano. Ana Griot será la encargada de convertir la Dehesa Municipal de Alpedrete en escenario de su relato. \nLa actividad se realizará el 24 de junio a partir de las 21:00 de la noche. El lugar de encuentro es la entrada de la Dehesa junto a la conocida como cantera de las truchas. Se recomienda llevar linterna o antorcha solar para iluminar el entorno. \n
URL:https://www.alpedrete.es/evento/historias-magicas-la-dehesa/
LOCATION:Dehesa Municipal de Alpedrete\, Camino de la Dehesa s/n\, Alpedrete\, Madrid\, 28430\, España
CATEGORIES:Medioambiente
ATTACH;FMTTYPE=image/jpeg:https://www.alpedrete.es/wp-content/uploads/2016/06/La-luna-gigante.jpg
END:VEVENT
END:VCALENDAR