BEGIN:VCALENDAR
VERSION:2.0
PRODID:-//Web Ayuntamiento de Alpedrete - ECPv5.0.2.1//NONSGML v1.0//EN
CALSCALE:GREGORIAN
METHOD:PUBLISH
X-WR-CALNAME:Web Ayuntamiento de Alpedrete
X-ORIGINAL-URL:https://www.alpedrete.es
X-WR-CALDESC:Eventos para Web Ayuntamiento de Alpedrete
BEGIN:VTIMEZONE
TZID:Europe/Madrid
BEGIN:DAYLIGHT
TZOFFSETFROM:+0100
TZOFFSETTO:+0200
TZNAME:CEST
DTSTART:20160327T010000
END:DAYLIGHT
BEGIN:STANDARD
TZOFFSETFROM:+0200
TZOFFSETTO:+0100
TZNAME:CET
DTSTART:20161030T010000
END:STANDARD
END:VTIMEZONE
BEGIN:VEVENT
DTSTART;TZID=Europe/Madrid:20160508T100000
DTEND;TZID=Europe/Madrid:20160508T140000
DTSTAMP:20260421T101946
CREATED:20160501T083414Z
LAST-MODIFIED:20160501T083414Z
UID:6853-1462701600-1462716000@www.alpedrete.es
SUMMARY:I Feria de la Energía Renovable y la Eficiencia Energética
DESCRIPTION:El Ayuntamiento de Alpedrete organiza el 8 de mayo la I Feria de la Energía Renovable y la Eficiencia Energética\, que se ubicará en la Plaza de la Villa a partir de las 10:00 de la mañana. El objetivo de esta iniciativa es divulgar la necesidad de un cambio de modelo energético y mostrar las posibilidades tecnológicas que existen en la actualidad. \n
URL:https://www.alpedrete.es/evento/i-feria-la-energia-renovable-la-eficiencia-energetica/
LOCATION:Plaza de la Villa\, Plaza de la Villa\, Alpedrete\, 28430 \, España
CATEGORIES:Medioambiente
ATTACH;FMTTYPE=image/jpeg:https://www.alpedrete.es/wp-content/uploads/2016/05/Feria-Energía.jpg
END:VEVENT
END:VCALENDAR