BEGIN:VCALENDAR
VERSION:2.0
PRODID:-//Web Ayuntamiento de Alpedrete - ECPv5.0.2.1//NONSGML v1.0//EN
CALSCALE:GREGORIAN
METHOD:PUBLISH
X-WR-CALNAME:Web Ayuntamiento de Alpedrete
X-ORIGINAL-URL:https://www.alpedrete.es
X-WR-CALDESC:Eventos para Web Ayuntamiento de Alpedrete
BEGIN:VTIMEZONE
TZID:Europe/Madrid
BEGIN:DAYLIGHT
TZOFFSETFROM:+0100
TZOFFSETTO:+0200
TZNAME:CEST
DTSTART:20160327T010000
END:DAYLIGHT
BEGIN:STANDARD
TZOFFSETFROM:+0200
TZOFFSETTO:+0100
TZNAME:CET
DTSTART:20161030T010000
END:STANDARD
END:VTIMEZONE
BEGIN:VEVENT
DTSTART;TZID=Europe/Madrid:20160409T130000
DTEND;TZID=Europe/Madrid:20160409T140000
DTSTAMP:20260421T115123
CREATED:20160403T094711Z
LAST-MODIFIED:20160517T134917Z
UID:6323-1460206800-1460210400@www.alpedrete.es
SUMMARY:Presentación método CES para felinos
DESCRIPTION:El Ayuntamiento de Alpedrete presentará oficialmente el sábado 9 de abril el método CES (captura\, esterilización y suelta) para felinos en el municipio. El acto tendrá lugar en la sala polivalente del Centro de Mayores los Canteros (plaza de la Constitución s/n) a partir de las 13:00. Además del Ayuntamiento\, participan la asociación Alpedrete Felino y las clínicas veterinarias del municipio Vetarinarea\, Matres y CVA Alpedrete. \n
URL:https://www.alpedrete.es/evento/presentacion-metodo-ces-para-felinos/
LOCATION:Centro de Mayores Los Canteros de Alpedrete\, Plaza de la Constitución\, s/n\, Alpedrete\, España
CATEGORIES:Medioambiente
ATTACH;FMTTYPE=image/jpeg:https://www.alpedrete.es/wp-content/uploads/2016/04/Cartel-presentacion-final.jpg
END:VEVENT
END:VCALENDAR