BEGIN:VCALENDAR
VERSION:2.0
PRODID:-//Web Ayuntamiento de Alpedrete - ECPv5.0.2.1//NONSGML v1.0//EN
CALSCALE:GREGORIAN
METHOD:PUBLISH
X-WR-CALNAME:Web Ayuntamiento de Alpedrete
X-ORIGINAL-URL:https://www.alpedrete.es
X-WR-CALDESC:Eventos para Web Ayuntamiento de Alpedrete
BEGIN:VTIMEZONE
TZID:Europe/Madrid
BEGIN:DAYLIGHT
TZOFFSETFROM:+0100
TZOFFSETTO:+0200
TZNAME:CEST
DTSTART:20160327T010000
END:DAYLIGHT
BEGIN:STANDARD
TZOFFSETFROM:+0200
TZOFFSETTO:+0100
TZNAME:CET
DTSTART:20161030T010000
END:STANDARD
END:VTIMEZONE
BEGIN:VEVENT
DTSTART;TZID=Europe/Madrid:20160319T203000
DTEND;TZID=Europe/Madrid:20160319T213000
DTSTAMP:20260423T060720
CREATED:20160315T082035Z
LAST-MODIFIED:20160517T134940Z
UID:6036-1458419400-1458423000@www.alpedrete.es
SUMMARY:La hora del Planeta
DESCRIPTION:El Ayuntamiento de Alpedrete se ha sumado a la “Hora del Planeta”\, posiblemente la mayor campaña a nivel mundial de lucha contra el cambio climático. La iniciativa fue ideada por WWF\, que la realizó por primera vez en Sidney\, Australia. Aquel símbolo\, diez años después\, es seguido a nivel mundial en más de 7.000 ciudades de 172 países. A partir de 2016\, Alpedrete es uno de esos municipios. El próximo 19 de marzo la Hora del Planeta en España será de 20:30 de la tarde a 21:30 de la noche. Durante esa hora\, en Alpedrete se apagarán las luces de la Casa Consistorial. \n
URL:https://www.alpedrete.es/evento/la-hora-del-planeta/
LOCATION:Alpedrete\, Alpedrete\, Madrid\, 28430\, España
CATEGORIES:Medioambiente
ATTACH;FMTTYPE=image/jpeg:https://www.alpedrete.es/wp-content/uploads/2016/03/planeta-3.jpg
END:VEVENT
END:VCALENDAR