BEGIN:VCALENDAR
VERSION:2.0
PRODID:-//Web Ayuntamiento de Alpedrete - ECPv5.0.2.1//NONSGML v1.0//EN
CALSCALE:GREGORIAN
METHOD:PUBLISH
X-WR-CALNAME:Web Ayuntamiento de Alpedrete
X-ORIGINAL-URL:https://www.alpedrete.es
X-WR-CALDESC:Eventos para Web Ayuntamiento de Alpedrete
BEGIN:VTIMEZONE
TZID:Europe/Madrid
BEGIN:DAYLIGHT
TZOFFSETFROM:+0100
TZOFFSETTO:+0200
TZNAME:CEST
DTSTART:20220327T010000
END:DAYLIGHT
BEGIN:STANDARD
TZOFFSETFROM:+0200
TZOFFSETTO:+0100
TZNAME:CET
DTSTART:20221030T010000
END:STANDARD
END:VTIMEZONE
BEGIN:VEVENT
DTSTART;TZID=Europe/Madrid:20220617T190000
DTEND;TZID=Europe/Madrid:20220617T203000
DTSTAMP:20260421T084748
CREATED:20220610T115438Z
LAST-MODIFIED:20220610T115438Z
UID:40474-1655492400-1655497800@www.alpedrete.es
SUMMARY:Lectura de relatos de los alumnos del taller de escritura creativa
DESCRIPTION:El próximo día 17 de junio a las 19:00 h. se llevará a cabo la clausura del taller de escritura creativa que se imparte en la Biblioteca Municipal desde octubre por la escritora y profesora Olga Pérez Herrero. \nTras un curso de varios meses donde el objetivo ha sido estimular en el alumnado su capacidad para la creación literaria así como desarrollar su pasión creativa y estética\, asistentes y profesora compartirán una tarde donde las palabras serán las protagonistas junto a la lectura de varios relatos\, en las voces de sus propios autores. Como colofón al taller se celebrará un coloquio. \nFinalmente\, queremos destacar la asistencia de nuestro alumnado\, fieles a cada cita\, así como a la profesora que ha impartido el taller que\, dado el éxito de participación se espera repetir el proximo curso. \n¡Muchas gracias! \n \n
URL:https://www.alpedrete.es/evento/lectura-de-relatos-de-los-alumnos-del-taller-de-escritura-creativa/
LOCATION:Biblioteca Municipal de Alpedrete\, Plaza Francisco Rabal\, 2\, Alpedrete\, 28430 \, España
CATEGORIES:Literatura
ATTACH;FMTTYPE=image/jpeg:https://www.alpedrete.es/wp-content/uploads/2022/06/2022-06-10-Cartel-Clausura-Taller-Escritura-Creativa-17-Junio-2022.jpg
END:VEVENT
END:VCALENDAR