BEGIN:VCALENDAR
VERSION:2.0
PRODID:-//Web Ayuntamiento de Alpedrete - ECPv5.0.2.1//NONSGML v1.0//EN
CALSCALE:GREGORIAN
METHOD:PUBLISH
X-WR-CALNAME:Web Ayuntamiento de Alpedrete
X-ORIGINAL-URL:https://www.alpedrete.es
X-WR-CALDESC:Eventos para Web Ayuntamiento de Alpedrete
BEGIN:VTIMEZONE
TZID:Europe/Madrid
BEGIN:DAYLIGHT
TZOFFSETFROM:+0100
TZOFFSETTO:+0200
TZNAME:CEST
DTSTART:20220327T010000
END:DAYLIGHT
BEGIN:STANDARD
TZOFFSETFROM:+0200
TZOFFSETTO:+0100
TZNAME:CET
DTSTART:20221030T010000
END:STANDARD
END:VTIMEZONE
BEGIN:VEVENT
DTSTART;TZID=Europe/Madrid:20220527T190000
DTEND;TZID=Europe/Madrid:20220527T210000
DTSTAMP:20260419T193903
CREATED:20220520T223629Z
LAST-MODIFIED:20220520T223629Z
UID:39985-1653678000-1653685200@www.alpedrete.es
SUMMARY:Presentación del libro "Espejos" de Saskia Sanchez de Agüero
DESCRIPTION:La Biblioteca Municipal de Alpedrete acoge la presentación del nuevo libro de Saskia Sánchez de Agüero. Nos presentará su nuevo libro de poemas “Espejos”. \nSaskia es actriz\, profesora y directora de teatro\, poetisa y dramaturga\, graduada de interpretación. Ha sido premiada como actriz y poetisa en diferentes certámenes nacionales e internacionales. Escribe poesía desde muy joven y tiene otros dos libros publicados “Oblicuo desahogo”(Poesía\, 1992\, Cuba) y “Vestidos de imaginación” (Teatro infantil\, 2019). Actualmente ejerce como profesora y directora de teatro en la Casa de Cultura Asunción Balaguer de Alpedrete. \nEn “Espejos” encontraremos delicadeza repleta de sentimientos\, emociones y el desenfado de mostrar al desnudo\, sin ropajes ni máscaras una poesía intimista\, pero también contemporánea y universal. Con valentía o rebeldía genuina\, a lo largo de una vida llena de arte y escena\, se capta la interacción con el lector para que pueda identificarse\, acercarse al alma de la autora y conmoverse. \n¡Acércate a la biblioteca! \n \n
URL:https://www.alpedrete.es/evento/presentacion-del-libro-espejos-de-saskia-sanchez-de-aguero/
LOCATION:Biblioteca Municipal de Alpedrete\, Plaza Francisco Rabal\, 2\, Alpedrete\, 28430 \, España
CATEGORIES:Literatura
ATTACH;FMTTYPE=image/jpeg:https://www.alpedrete.es/wp-content/uploads/2022/05/Cartel-para-la-biblioteca-azul-y-azul.jpg
END:VEVENT
END:VCALENDAR