BEGIN:VCALENDAR
VERSION:2.0
PRODID:-//Web Ayuntamiento de Alpedrete - ECPv5.0.2.1//NONSGML v1.0//EN
CALSCALE:GREGORIAN
METHOD:PUBLISH
X-WR-CALNAME:Web Ayuntamiento de Alpedrete
X-ORIGINAL-URL:https://www.alpedrete.es
X-WR-CALDESC:Eventos para Web Ayuntamiento de Alpedrete
BEGIN:VTIMEZONE
TZID:Europe/Madrid
BEGIN:DAYLIGHT
TZOFFSETFROM:+0100
TZOFFSETTO:+0200
TZNAME:CEST
DTSTART:20220327T010000
END:DAYLIGHT
BEGIN:STANDARD
TZOFFSETFROM:+0200
TZOFFSETTO:+0100
TZNAME:CET
DTSTART:20221030T010000
END:STANDARD
END:VTIMEZONE
BEGIN:VEVENT
DTSTART;VALUE=DATE:20220418
DTEND;VALUE=DATE:20220501
DTSTAMP:20260420T183127
CREATED:20220406T194212Z
LAST-MODIFIED:20220407T092831Z
UID:39354-1650240000-1651363199@www.alpedrete.es
SUMMARY:II Edición de “¿Y ahora qué leo?”\, en la Biblioteca Municipal
DESCRIPTION:Entre el 18 y el 30 de abril puedes acercarte a la biblioteca y recomendar tu libro favorito rellenando una ficha que te proporcionaremos. \nOpina\, comparte y encuentra recomendados de libros por nuestros usuarios. Podrán participar tanto adultos como niños. No son recomendaciones de expertos literatos\, sino de aficionados a la lectura\, que recomiendan libros a otras personas que no saben que leer o ¡que lo tienen todo leído! \n¡Participa! \n \n  \n
URL:https://www.alpedrete.es/evento/ii-edicion-de-y-ahora-que-leo-en-la-biblioteca-municipal/
LOCATION:Biblioteca Municipal de Alpedrete\, Plaza Francisco Rabal\, 2\, Alpedrete\, 28430 \, España
CATEGORIES:Literatura
ATTACH;FMTTYPE=image/jpeg:https://www.alpedrete.es/wp-content/uploads/2022/04/Cartel-Y-ahora-que-leo.jpg
END:VEVENT
BEGIN:VEVENT
DTSTART;VALUE=DATE:20220418
DTEND;VALUE=DATE:20220501
DTSTAMP:20260420T183127
CREATED:20220406T204637Z
LAST-MODIFIED:20220406T204637Z
UID:39352-1650240000-1651363199@www.alpedrete.es
SUMMARY:VI Edición de “Mi libro es tu libro”\, actividad en la Biblioteca Municipal
DESCRIPTION:Entre el 18 y el 30 de abril intercambia tus libros en la Biblioteca Municipal de Alpedrete. Comparte las vivencias de las letras de tu vida\, intercambiando tus libros. \nLa idea es liberar libros para que sean encontrados por otras personas. “Mi libro es tu libro” es una actividad simple: coger un libro y dejar otro\, es decir\, a cambio de un libro usado te podrás llevar otro que tú elijas. \n¡Anímate a intercambiar! \n \n  \n
URL:https://www.alpedrete.es/evento/vi-edicion-de-mi-libro-es-tu-libro-actividad-en-la-biblioteca-municipal/
LOCATION:Biblioteca Municipal de Alpedrete\, Plaza Francisco Rabal\, 2\, Alpedrete\, 28430 \, España
CATEGORIES:Literatura
ATTACH;FMTTYPE=image/jpeg:https://www.alpedrete.es/wp-content/uploads/2022/04/Cartel-Mi-libro-es-tu-libro-2021.-V1.jpg
END:VEVENT
END:VCALENDAR