BEGIN:VCALENDAR
VERSION:2.0
PRODID:-//Web Ayuntamiento de Alpedrete - ECPv5.0.2.1//NONSGML v1.0//EN
CALSCALE:GREGORIAN
METHOD:PUBLISH
X-WR-CALNAME:Web Ayuntamiento de Alpedrete
X-ORIGINAL-URL:https://www.alpedrete.es
X-WR-CALDESC:Eventos para Web Ayuntamiento de Alpedrete
BEGIN:VTIMEZONE
TZID:Europe/Madrid
BEGIN:DAYLIGHT
TZOFFSETFROM:+0100
TZOFFSETTO:+0200
TZNAME:CEST
DTSTART:20210328T010000
END:DAYLIGHT
BEGIN:STANDARD
TZOFFSETFROM:+0200
TZOFFSETTO:+0100
TZNAME:CET
DTSTART:20211031T010000
END:STANDARD
END:VTIMEZONE
BEGIN:VEVENT
DTSTART;TZID=Europe/Madrid:20210312T183000
DTEND;TZID=Europe/Madrid:20210312T193000
DTSTAMP:20260425T102928
CREATED:20210225T190709Z
LAST-MODIFIED:20210226T114959Z
UID:34333-1615573800-1615577400@www.alpedrete.es
SUMMARY:Videoconferencia: mujer tenías que ser
DESCRIPTION:12 de marzo\, 18:30 horas\, a través de la plataforma Zoom. \nVideoconferencia a cargo de María Martín Barranco\, autora de libro Mujer tenías que ser. La construcción de lo femenino a través del lenguaje (ed. La Catarata\, 2020). \nUn repaso (con maestría\, humor y mucha sorna) de las mil y una palabras que han contribuido a lo largo de la historia a construir lo femenino. \n¿Cómo han sido consideradas históricamente las mujeres? ¿Cómo han sido narradas sus historias\, sus cuerpos y su salud? Las palabras y sus significados no son neutros: producen\, reproducen y fijan la realidad. A través del análisis de refranes\, expresiones y significados de la cultura popular —muchos recogidos en las diferentes ediciones de los diccionarios de la lengua castellana—\, María Martín repasa las mil y una palabras que han contribuido a construir lo femenino: cómo se han descrito sus cuerpos y funciones fisiológicas y qué roles les han sido otorgados o negados. \n  \nConferencia programada dentro de las actividades de la Mancomunidad de Servicios Sociales THAM y los ayuntamientos integrantes \, con motivo de la conmemoración del 8 de marzo\, Día Internacional de la Mujer. \nAunque son numerosos los avances que se han realizado desde 1975\, año en que la Organización de Naciones Unidas estableció esta fecha para conmemorar las reivindicaciones de las  mujeres\, aún hoy se hace necesario continuar avanzando para lograr la igualdad real de hombres y mujeres. \nEste año\, con la conmemoración del 8 de marzo\, queremos visibilizar a las mujeres que nos abrieron camino\, a las que lo hacen hoy y a las que lo harán mañana. Para ello se han preparado diversas propuestas que\, considerando la situación sanitaria\, se realizarán en formato on line a través de la plataforma Zoom. \nLa actividades son gratuitas y pueden participar mayores de 16 años. Para acceder sólo debes enviar previamente un correo electrónico a thamigualdad@mancomunidad-tham.org\, indicándonos la actividad o actividades que te interesan\, y te enviaremos el enlace. \n  \nInfórmate del resto de actividades programadas con motivo de la celebración del 8 de marzo\, Día Internacional de la Mujer: \nActividades para conmemorar el 8 de marzo\, Día Internacional de la Mujer \ne \n
URL:https://www.alpedrete.es/evento/videoconferencia-mujer-tenias-que-ser/
LOCATION:Alpedrete
CATEGORIES:Literatura
ATTACH;FMTTYPE=image/jpeg:https://www.alpedrete.es/wp-content/uploads/2021/02/Cartel-Mujeres-A4-8-de-marzo.jpg
END:VEVENT
END:VCALENDAR