BEGIN:VCALENDAR
VERSION:2.0
PRODID:-//Web Ayuntamiento de Alpedrete - ECPv5.0.2.1//NONSGML v1.0//EN
CALSCALE:GREGORIAN
METHOD:PUBLISH
X-WR-CALNAME:Web Ayuntamiento de Alpedrete
X-ORIGINAL-URL:https://www.alpedrete.es
X-WR-CALDESC:Eventos para Web Ayuntamiento de Alpedrete
BEGIN:VTIMEZONE
TZID:Europe/Madrid
BEGIN:DAYLIGHT
TZOFFSETFROM:+0100
TZOFFSETTO:+0200
TZNAME:CEST
DTSTART:20250330T010000
END:DAYLIGHT
BEGIN:STANDARD
TZOFFSETFROM:+0200
TZOFFSETTO:+0100
TZNAME:CET
DTSTART:20251026T010000
END:STANDARD
END:VTIMEZONE
BEGIN:VEVENT
DTSTART;VALUE=DATE:20250407
DTEND;VALUE=DATE:20250417
DTSTAMP:20260422T072054
CREATED:20250331T154851Z
LAST-MODIFIED:20250331T155041Z
UID:136998-1743984000-1744847999@www.alpedrete.es
SUMMARY:Exposición XXII Circuito Arte Joven. Obras presentadas a concurso
DESCRIPTION:La concejalía de Juventud del Ayuntamiento de Alpedrete se ha unido como en años anteriores a la convocatoria del Circuito de Arte Joven\, que este año celebra su XXII edición. Como novedad este 2025\, la concejalía de Juventud organiza una exposición con todas las obras presentadas a concurso en nuestro municipio\, del 7 al 16 de abril de 2025 en el Centro Cultural Asunción Balaguer. Una muestra del talento artístico de los jóvenes alpedreteños\, con edades comprendidas entre los 14 y 30 años. \n\n  \n  \n  \n\n\n\n\n\n\n\n\n\n\n
URL:https://www.alpedrete.es/evento/exposicion-xxii-circuito-arte-joven-obras-concurso/
LOCATION:Centro Cultural Asunción Balaguer\, Plaza de Francisco Rabal\, Alpedrete\, Madrid\, 28430\, España
CATEGORIES:Juventud,Exposición
ATTACH;FMTTYPE=image/jpeg:https://www.alpedrete.es/wp-content/uploads/2025/03/banner-circuito-arte-joven-expo.jpg
END:VEVENT
BEGIN:VEVENT
DTSTART;TZID=Europe/Madrid:20250412T180000
DTEND;TZID=Europe/Madrid:20250412T210000
DTSTAMP:20260422T072054
CREATED:20250407T141251Z
LAST-MODIFIED:20250407T141333Z
UID:137215-1744480800-1744491600@www.alpedrete.es
SUMMARY:Fiesta de la Feria de Abril en Juventud
DESCRIPTION:\nLa concejalía de Juventud  ha organizado la Fiesta de la Feria de Abril\, que se celebrará el próximo sábado 12  de 18:00 a 21:00 horas\, en el Centro de Juventud. \nEl evento está dirigido principalmente a jóvenes del municipio y se enmarca dentro de las actividades de dinamización del Centro de Juventud\, el cual ofrece actividades culturales\, formativas y recreativas a lo largo del año. \nDurante la tarde\, los chicos y chicas podrán disfrutar de un ambiente al estilo de las tradicionales ferias andaluzas\, con música\, tapas típicas\, rebujitos sin alcohol (0\,0) . La entrada es libre hasta completar el aforo. \n\n\n\n\n\n\n\n\n\n\n\n
URL:https://www.alpedrete.es/evento/fiesta-de-la-feria-de-abril/
LOCATION:Centro de Juventud\, Félix Díaz\, 3\, Alpedrete\, España
CATEGORIES:Fiesta,Juventud
ATTACH;FMTTYPE=image/jpeg:https://www.alpedrete.es/wp-content/uploads/2025/04/banner-cultural-345x260-01.jpg
END:VEVENT
END:VCALENDAR