BEGIN:VCALENDAR
VERSION:2.0
PRODID:-//Web Ayuntamiento de Alpedrete - ECPv5.0.2.1//NONSGML v1.0//EN
CALSCALE:GREGORIAN
METHOD:PUBLISH
X-WR-CALNAME:Web Ayuntamiento de Alpedrete
X-ORIGINAL-URL:https://www.alpedrete.es
X-WR-CALDESC:Eventos para Web Ayuntamiento de Alpedrete
BEGIN:VTIMEZONE
TZID:Europe/Madrid
BEGIN:DAYLIGHT
TZOFFSETFROM:+0100
TZOFFSETTO:+0200
TZNAME:CEST
DTSTART:20250330T010000
END:DAYLIGHT
BEGIN:STANDARD
TZOFFSETFROM:+0200
TZOFFSETTO:+0100
TZNAME:CET
DTSTART:20251026T010000
END:STANDARD
END:VTIMEZONE
BEGIN:VEVENT
DTSTART;TZID=Europe/Madrid:20250301T180000
DTEND;TZID=Europe/Madrid:20250301T210000
DTSTAMP:20260422T154037
CREATED:20250218T150520Z
LAST-MODIFIED:20250218T150717Z
UID:132640-1740852000-1740862800@www.alpedrete.es
SUMMARY:Fiesta de Carnaval en Juventud
DESCRIPTION:\n¡En Juventud estamos de carnaval! el 1 de marzo celebraremos una fiesta en el Centro de Juventud\, para jóvenes de 12 a 17 años. Será de 18:00 a 20:00 h.\n\nHabrá una zona de maquillaje\, donde realizaremos diferentes maquillajes rápidos de temática de carnaval. También una zona de cócteles 0\,0  y zona de picoteo y brochetas de fruta fresca con chocolate fundido. Todo acompañado de música y zona de karaoke.\n\nLa entrada a la fiesta es libre\, sin inscripción\, pudiendo salir y entrar cuando los jóvenes lo deseen.\n\nEl Tardeo Joven previsto ese día\,  será sustituido por esta programación especial.\n\n\n\n\n\n\n\n\n\n
URL:https://www.alpedrete.es/evento/fiesta-de-carnaval-en-juventud/
LOCATION:Centro de Juventud\, Félix Díaz\, 3\, Alpedrete\, España
CATEGORIES:Carnaval,Juventud
ATTACH;FMTTYPE=image/jpeg:https://www.alpedrete.es/wp-content/uploads/2025/02/fiesta-de-carnaval-Post-de-Instagram.jpg
END:VEVENT
END:VCALENDAR