BEGIN:VCALENDAR
VERSION:2.0
PRODID:-//Web Ayuntamiento de Alpedrete - ECPv5.0.2.1//NONSGML v1.0//EN
CALSCALE:GREGORIAN
METHOD:PUBLISH
X-WR-CALNAME:Web Ayuntamiento de Alpedrete
X-ORIGINAL-URL:https://www.alpedrete.es
X-WR-CALDESC:Eventos para Web Ayuntamiento de Alpedrete
BEGIN:VTIMEZONE
TZID:Europe/Madrid
BEGIN:DAYLIGHT
TZOFFSETFROM:+0100
TZOFFSETTO:+0200
TZNAME:CEST
DTSTART:20240331T010000
END:DAYLIGHT
BEGIN:STANDARD
TZOFFSETFROM:+0200
TZOFFSETTO:+0100
TZNAME:CET
DTSTART:20241027T010000
END:STANDARD
END:VTIMEZONE
BEGIN:VEVENT
DTSTART;TZID=Europe/Madrid:20241228T110000
DTEND;TZID=Europe/Madrid:20241228T210000
DTSTAMP:20260423T141325
CREATED:20241126T130741Z
LAST-MODIFIED:20241126T130925Z
UID:102540-1735383600-1735419600@www.alpedrete.es
SUMMARY:Taller de DJ
DESCRIPTION:La concejalía de Juventud del Ayuntamiento de Alpedrete ha programado este taller dirigido a jóvenes de 1º de la ESO a 2º de Bachillerato. Pero no será solo un taller\, también tendremos una fiesta para celebrar el final del mismo. \nEl taller tendrá lugar los sábados 14\, 21 y 28 de diciembre\, en el Centro de Juventud\, en horario de 11:00 a 14:00 h. Toda una experiencia de la mano de Unika FM. \n\n\n2 profesores \n\n\n2 equipos de DJ profesionales \n\n\nMasterclass vinilo y encuentro con Vicente One More Time con los futuros DJ’s \n\nRegalo de vinilos y entrega de diplomas a los asistentes\n\nEl sábado 28 cerraremos con una fiesta en horario de 18:00 a 21:00 h\, a la que podrán asistir los participantes del taller como el público en general: vamos a hacer una exhibición de todo lo aprendido y lo vamos a pasar genial. \nEl taller es gratuito y la participación está limitada a 20 plazas máximo. Las inscripciones se encuentran abiertas a través de este formulario. \n  \nOtros talleres en Navidad\nDesde Juventud también te ofrecemos un taller de adornos navideños el viernes 13 y un taller de regalos personalizados el 20 de diciembre. Todos los detalles aquí. \n\n\n
URL:https://www.alpedrete.es/evento/taller-de-dj-2/
LOCATION:Centro de Juventud\, Félix Díaz\, 3\, Alpedrete\, España
CATEGORIES:Juventud
ATTACH;FMTTYPE=image/jpeg:https://www.alpedrete.es/wp-content/uploads/2024/11/taller-dj-instagram.jpg
END:VEVENT
END:VCALENDAR