BEGIN:VCALENDAR
VERSION:2.0
PRODID:-//Web Ayuntamiento de Alpedrete - ECPv5.0.2.1//NONSGML v1.0//EN
CALSCALE:GREGORIAN
METHOD:PUBLISH
X-WR-CALNAME:Web Ayuntamiento de Alpedrete
X-ORIGINAL-URL:https://www.alpedrete.es
X-WR-CALDESC:Eventos para Web Ayuntamiento de Alpedrete
BEGIN:VTIMEZONE
TZID:Europe/Madrid
BEGIN:DAYLIGHT
TZOFFSETFROM:+0100
TZOFFSETTO:+0200
TZNAME:CEST
DTSTART:20240331T010000
END:DAYLIGHT
BEGIN:STANDARD
TZOFFSETFROM:+0200
TZOFFSETTO:+0100
TZNAME:CET
DTSTART:20241027T010000
END:STANDARD
END:VTIMEZONE
BEGIN:VEVENT
DTSTART;TZID=Europe/Madrid:20241213T173000
DTEND;TZID=Europe/Madrid:20241213T203000
DTSTAMP:20260423T105436
CREATED:20241125T135819Z
LAST-MODIFIED:20241125T141712Z
UID:102466-1734111000-1734121800@www.alpedrete.es
SUMMARY:Taller para jóvenes: decoración navideña
DESCRIPTION:La concejalía de Juventud del Ayuntamiento de Alpedrete ofrece esta píldora de formación gratuita: un taller de decoración navideña\, para jóvenes a partir de 5º de primaria\, cuyo objetivo es fomentar el arte y la reutilización de materiales para celebrar la época más mágica del año. Será el próximo viernes 13 de diciembre en el Centro de Juventud\, de 17:30 a 20:30 h.\n \n¿Qué haremos?\nDurante el taller\, los participantes crearán un móvil decorativo para colgar adornos navideños\, utilizando materiales reciclados y aplicando diversas técnicas artísticas. Una experiencia divertida donde potenciaremos habilidades como: \n\nDesarrollo de la creatividad e imaginación.\nReutilización de materiales para darles un segundo uso.\nMejora de la psicomotricidad fina.\nFomento de habilidades sociales y comunicativas.\n\nLas plazas están limitadas a 15 participantes. Inscríbete a través de este formulario \nTambién te ofrecemos un taller de regalos personalizados el 20 de diciembre. Todos los detalles aquí. \n\n
URL:https://www.alpedrete.es/evento/taller-para-jovenes-decoracion-navidena/
LOCATION:Centro de Juventud\, Félix Díaz\, 3\, Alpedrete\, España
CATEGORIES:Juventud
ATTACH;FMTTYPE=image/jpeg:https://www.alpedrete.es/wp-content/uploads/2024/11/TALLER-DECORACION-NAVIDENA-Post-de-Instagram.jpg
END:VEVENT
BEGIN:VEVENT
DTSTART;TZID=Europe/Madrid:20241213T173000
DTEND;TZID=Europe/Madrid:20241213T193000
DTSTAMP:20260423T105436
CREATED:20241203T194512Z
LAST-MODIFIED:20241203T194524Z
UID:102734-1734111000-1734118200@www.alpedrete.es
SUMMARY:Taller de adornos navideños en familia
DESCRIPTION:\n\n\n\nOs invitamos a participar en este taller gratuito presencial\, organizado por la Mancomunidad THAM. \nDirigido a familias con menores de 5 a 12 años\, con la realización de este taller se estimulará y potenciará la participación de niños y niñas \, padres\, madres\, abuelos y abuelas en actividades que supongan un cambio de roles tradicionales. \nSe celebrará el 13 de diciembre de 17:30 a 19:30 h.  Inscripciones al taller en este enlace \n\n\n\n\n\n\n\n\n\n\n
URL:https://www.alpedrete.es/evento/taller-de-adornos-navidenos-en-familia-2/
LOCATION:Mancomunidad de Servicios Sociales THAM\, Calle Pozo Nuevo 4-6\, Alpedrete\, Madrid\, 28430\, España
CATEGORIES:Juventud,Navidad,Taller
ATTACH;FMTTYPE=image/jpeg:https://www.alpedrete.es/wp-content/uploads/2024/12/13-12-Adornos-navidenos-en-familia-THAM-scaled.jpg
END:VEVENT
END:VCALENDAR