BEGIN:VCALENDAR
VERSION:2.0
PRODID:-//Web Ayuntamiento de Alpedrete - ECPv5.0.2.1//NONSGML v1.0//EN
CALSCALE:GREGORIAN
METHOD:PUBLISH
X-WR-CALNAME:Web Ayuntamiento de Alpedrete
X-ORIGINAL-URL:https://www.alpedrete.es
X-WR-CALDESC:Eventos para Web Ayuntamiento de Alpedrete
BEGIN:VTIMEZONE
TZID:Europe/Madrid
BEGIN:DAYLIGHT
TZOFFSETFROM:+0100
TZOFFSETTO:+0200
TZNAME:CEST
DTSTART:20210328T010000
END:DAYLIGHT
BEGIN:STANDARD
TZOFFSETFROM:+0200
TZOFFSETTO:+0100
TZNAME:CET
DTSTART:20211031T010000
END:STANDARD
END:VTIMEZONE
BEGIN:VEVENT
DTSTART;TZID=Europe/Madrid:20210311T120000
DTEND;TZID=Europe/Madrid:20210311T123000
DTSTAMP:20260420T144129
CREATED:20210309T113329Z
LAST-MODIFIED:20210309T122626Z
UID:34502-1615464000-1615465800@www.alpedrete.es
SUMMARY:Acto homenaje a las víctimas del terrorismo
DESCRIPTION:Con motivo del XVII aniversario de los atentados del 11 -M en Madrid\, el jueves 11 a las 12:00 horas\, tendrá lugar un homenaje en recuerdo a las víctimas. \nEl 11 de marzo se celebra también el Día Europeo en Memoria de las Víctimas del Terrorismo\, una fecha creada por la Comisión Europea con el objetivo de recordar el atentado terrorista que sufrió España el 11 de marzo del año 2004. \nSe realizará una ofrenda floral y se invitará a un minuto de silencio. Tendrá lugar en la Glorieta Víctimas del Terrorismo\, situada en la M-620. \n
URL:https://www.alpedrete.es/evento/acto-homenaje-a-las-victimas-del-terrorismo/
LOCATION:Alpedrete
CATEGORIES:Homenaje
ATTACH;FMTTYPE=image/jpeg:https://www.alpedrete.es/wp-content/uploads/2021/03/rotonda-victimas-del-terrorismo.jpg
END:VEVENT
END:VCALENDAR