BEGIN:VCALENDAR
VERSION:2.0
PRODID:-//Web Ayuntamiento de Alpedrete - ECPv5.0.2.1//NONSGML v1.0//EN
CALSCALE:GREGORIAN
METHOD:PUBLISH
X-WR-CALNAME:Web Ayuntamiento de Alpedrete
X-ORIGINAL-URL:https://www.alpedrete.es
X-WR-CALDESC:Eventos para Web Ayuntamiento de Alpedrete
BEGIN:VTIMEZONE
TZID:Europe/Madrid
BEGIN:DAYLIGHT
TZOFFSETFROM:+0100
TZOFFSETTO:+0200
TZNAME:CEST
DTSTART:20240331T010000
END:DAYLIGHT
BEGIN:STANDARD
TZOFFSETFROM:+0200
TZOFFSETTO:+0100
TZNAME:CET
DTSTART:20241027T010000
END:STANDARD
END:VTIMEZONE
BEGIN:VEVENT
DTSTART;VALUE=DATE:20240509
DTEND;VALUE=DATE:20240529
DTSTAMP:20260423T082247
CREATED:20240520T153550Z
LAST-MODIFIED:20240520T153550Z
UID:69594-1715212800-1716940799@www.alpedrete.es
SUMMARY:Exposición. "Región: paisaje\, fotografía y patrimonio"
DESCRIPTION:Exposición Red Itiner. Hasta el 28 de Mayo. \n\n
URL:https://www.alpedrete.es/evento/exposicion-region-paisaje-fotografia-y-patrimonio/
LOCATION:Centro Cultural Asunción Balaguer\, Plaza de Francisco Rabal\, Alpedrete\, Madrid\, 28430\, España
CATEGORIES:Fotografía,Exposición
ATTACH;FMTTYPE=image/jpeg:https://www.alpedrete.es/wp-content/uploads/2024/05/EXPOSICION-RED-ITINER-9-29-MAYO-PAISAJE-FOTOGRAFIA-Y-PATRIMONIO-scaled.jpg
END:VEVENT
END:VCALENDAR