BEGIN:VCALENDAR
VERSION:2.0
PRODID:-//Web Ayuntamiento de Alpedrete - ECPv5.0.2.1//NONSGML v1.0//EN
CALSCALE:GREGORIAN
METHOD:PUBLISH
X-WR-CALNAME:Web Ayuntamiento de Alpedrete
X-ORIGINAL-URL:https://www.alpedrete.es
X-WR-CALDESC:Eventos para Web Ayuntamiento de Alpedrete
BEGIN:VTIMEZONE
TZID:Europe/Madrid
BEGIN:DAYLIGHT
TZOFFSETFROM:+0100
TZOFFSETTO:+0200
TZNAME:CEST
DTSTART:20250330T010000
END:DAYLIGHT
BEGIN:STANDARD
TZOFFSETFROM:+0200
TZOFFSETTO:+0100
TZNAME:CET
DTSTART:20251026T010000
END:STANDARD
END:VTIMEZONE
BEGIN:VEVENT
DTSTART;TZID=Europe/Madrid:20250102T173000
DTEND;TZID=Europe/Madrid:20250102T190000
DTSTAMP:20260423T092640
CREATED:20241226T132744Z
LAST-MODIFIED:20241226T135540Z
UID:109066-1735839000-1735844400@www.alpedrete.es
SUMMARY:Espectáculo infantil “1\,2\,3 Adivina qué es”
DESCRIPTION:Los presentadores de Clan TV en el Cohete Musical\, y ex componentes de Cantajuegos\, Juan “D” y Beatriz\, presentan el espectáculo ¡1\,2\,3 adivina lo qué es!  \n¿Te gustan las adivinanzas? ¡entonces este juego te va a encantar! prepárate para adivinar mientras cantas y bailas una selección de las mejores canciones de Juan “D” y Beatriz. Este emocionante espectáculo no solo te llevará a la mágica Ciudad Arcoiris\, sino también al Cohete Musical junto a los queridos Lunnis. \nEn “1\,2\,3 Adivina Lo Qué Es”\, tendrás que estar muy atento\, porque no todas las adivinanzas serán fáciles. ¡Acompáñanos en esta aventura llena de música\, diversión y sorpresas! ven a jugar con nosotros a Ciudad Arcoiris y disfruta de un espectáculo inolvidable para toda la familia. \n\nFecha: 2 de enero de 2025\nHora: 17:30 h\nLugar: Polideportivo Municipal\nEntrada libre hasta completar aforo\n\nUna tarde muy muy divertida para disfrutar en familia. Consulta el programa completo de Navidad en este enlace \n\n\n  \n\n
URL:https://www.alpedrete.es/evento/espectaculo-infantil-123-adivina-que-es/
LOCATION:Ciudad Deportiva Municipal de Alpedrete\, C/ Campo de Fútbol s/n\, Alpedrete\, Madrid\, 28430\, España
CATEGORIES:Navidad,Espectáculo
ATTACH;FMTTYPE=image/jpeg:https://www.alpedrete.es/wp-content/uploads/2024/12/1-2-3-adivina-lo-que-es-scaled.jpg
END:VEVENT
END:VCALENDAR