BEGIN:VCALENDAR
VERSION:2.0
PRODID:-//Web Ayuntamiento de Alpedrete - ECPv5.0.2.1//NONSGML v1.0//EN
CALSCALE:GREGORIAN
METHOD:PUBLISH
X-WR-CALNAME:Web Ayuntamiento de Alpedrete
X-ORIGINAL-URL:https://www.alpedrete.es
X-WR-CALDESC:Eventos para Web Ayuntamiento de Alpedrete
BEGIN:VTIMEZONE
TZID:Europe/Madrid
BEGIN:DAYLIGHT
TZOFFSETFROM:+0100
TZOFFSETTO:+0200
TZNAME:CEST
DTSTART:20160327T010000
END:DAYLIGHT
BEGIN:STANDARD
TZOFFSETFROM:+0200
TZOFFSETTO:+0100
TZNAME:CET
DTSTART:20161030T010000
END:STANDARD
END:VTIMEZONE
BEGIN:VEVENT
DTSTART;TZID=Europe/Madrid:20160528T123000
DTEND;TZID=Europe/Madrid:20160528T144500
DTSTAMP:20260422T090110
CREATED:20160524T083554Z
LAST-MODIFIED:20160524T083835Z
UID:7653-1464438600-1464446700@www.alpedrete.es
SUMMARY:Girando por Plazas
DESCRIPTION:Girando por Plazas realiza su tercer giro el sábado 28 de mayo en las plazas de Francisco Rabal\, Vicente Guillén y de la Constitución (junto al parque y en la avenida de los Canteros). Desde las 12:30 hasta las 14:45 de la tarde se sucederán cinco actuaciones diferentes que rotarán por las diferentes plazas. \nEn el apartado musical participarán el Grupo de Viento Metal de la Escuela Municipal de Música y Danza de Alpedrete y el Grupo de Flautas de la misma escuela. A ellos se une la actuación de Desvariétés Orquestina\, que evoca la alegría\, el glamour y la excentricidad de la Belle Époque y Angie Compás de Encuentro\, formación que interpreta flamenco compuesta por Angie González\, voz; Mercedes Martínez\, guitarra y Alba González\, percusión. La escena será para Marimba Marionetas\, grupo integrado por José Luis García e Isabel Tapiador. \n
URL:https://www.alpedrete.es/evento/girando-plazas-2/
LOCATION:Alpedrete\, Alpedrete\, Madrid\, 28430\, España
CATEGORIES:Cultura
ATTACH;FMTTYPE=image/jpeg:https://www.alpedrete.es/wp-content/uploads/2016/05/Horarios-de-las-actuaciones.jpg
END:VEVENT
END:VCALENDAR