BEGIN:VCALENDAR
VERSION:2.0
PRODID:-//Web Ayuntamiento de Alpedrete - ECPv5.0.2.1//NONSGML v1.0//EN
CALSCALE:GREGORIAN
METHOD:PUBLISH
X-WR-CALNAME:Web Ayuntamiento de Alpedrete
X-ORIGINAL-URL:https://www.alpedrete.es
X-WR-CALDESC:Eventos para Web Ayuntamiento de Alpedrete
BEGIN:VTIMEZONE
TZID:Europe/Madrid
BEGIN:DAYLIGHT
TZOFFSETFROM:+0100
TZOFFSETTO:+0200
TZNAME:CEST
DTSTART:20160327T010000
END:DAYLIGHT
BEGIN:STANDARD
TZOFFSETFROM:+0200
TZOFFSETTO:+0100
TZNAME:CET
DTSTART:20161030T010000
END:STANDARD
END:VTIMEZONE
BEGIN:VEVENT
DTSTART;TZID=Europe/Madrid:20160430T123000
DTEND;TZID=Europe/Madrid:20160430T150000
DTSTAMP:20260421T154328
CREATED:20160422T105225Z
LAST-MODIFIED:20160422T105225Z
UID:6653-1462019400-1462028400@www.alpedrete.es
SUMMARY:Girando por Plazas
DESCRIPTION:Girando por Plazas propone llevar la cultura a la calle. Música\, teatro\, danza\, guiñol…\, todo tipo de expresiones artísticas\, son protagonistas itinerantes en cinco espacios públicos. Los artistas van “girando” por las “plazas” de Alpedrete\, trasladando sus espectáculos a la cotidianidad de alpedreteños y visitantes. \nLa primera puesta en escena tendrá lugar el sábado 30 de abril desde las 12:30 de la mañana a las 15:00 de la tarde en cinco puntos: Parque Central (avenida de los Canteros)\, Plaza de la Constitución\, Plaza de Vicente Guillén Zamorano\, Plaza de la Villa y Plaza de Francisco Rabal. Los artistas programados irán girando por esos puntos. El 30 de abril será el primero de los cuatro giros por plazas programados durante los meses de abril\, mayo y junio en sábado alternos. El resto están previstos para los días 14 de mayo\, 28 de mayo y 11 de junio\, a la misma hora y en los mismos lugares\, pero con artistas diferentes. \nLos alumnos de la Escuela Municipal de Música y Danza y del Taller de Teatro de la Casa de Cultura son protagonistas de Girando por Plazas junto con un grupo de artistas que encarnan ritmos y espectáculos variados. \n
URL:https://www.alpedrete.es/evento/girando-por-plazas/
CATEGORIES:Cultura
ATTACH;FMTTYPE=image/jpeg:https://www.alpedrete.es/wp-content/uploads/2016/04/GXP5.jpg
END:VEVENT
END:VCALENDAR