BEGIN:VCALENDAR
VERSION:2.0
PRODID:-//Web Ayuntamiento de Alpedrete - ECPv5.0.2.1//NONSGML v1.0//EN
CALSCALE:GREGORIAN
METHOD:PUBLISH
X-WR-CALNAME:Web Ayuntamiento de Alpedrete
X-ORIGINAL-URL:https://www.alpedrete.es
X-WR-CALDESC:Eventos para Web Ayuntamiento de Alpedrete
BEGIN:VTIMEZONE
TZID:Europe/Madrid
BEGIN:DAYLIGHT
TZOFFSETFROM:+0100
TZOFFSETTO:+0200
TZNAME:CEST
DTSTART:20160327T010000
END:DAYLIGHT
BEGIN:STANDARD
TZOFFSETFROM:+0200
TZOFFSETTO:+0100
TZNAME:CET
DTSTART:20161030T010000
END:STANDARD
END:VTIMEZONE
BEGIN:VEVENT
DTSTART;TZID=Europe/Madrid:20160227T120000
DTEND;TZID=Europe/Madrid:20160227T130000
DTSTAMP:20260421T095702
CREATED:20160217T091702Z
LAST-MODIFIED:20160224T114945Z
UID:5081-1456574400-1456578000@www.alpedrete.es
SUMMARY:Cuentacuentos en Inglés\, "Cowboys and Cowards"
DESCRIPTION:
URL:https://www.alpedrete.es/evento/cuenta-cuentos-en-ingles-perfect-love/
LOCATION:Biblioteca Municipal de Alpedrete\, Plaza Francisco Rabal\, 2\, Alpedrete\, 28430 \, España
CATEGORIES:Cuentacuentos
ATTACH;FMTTYPE=image/jpeg:https://www.alpedrete.es/wp-content/uploads/2016/02/Cuenta-cuentos.jpg
END:VEVENT
END:VCALENDAR