BEGIN:VCALENDAR
VERSION:2.0
PRODID:-//Web Ayuntamiento de Alpedrete - ECPv5.0.2.1//NONSGML v1.0//EN
CALSCALE:GREGORIAN
METHOD:PUBLISH
X-WR-CALNAME:Web Ayuntamiento de Alpedrete
X-ORIGINAL-URL:https://www.alpedrete.es
X-WR-CALDESC:Eventos para Web Ayuntamiento de Alpedrete
BEGIN:VTIMEZONE
TZID:Europe/Madrid
BEGIN:DAYLIGHT
TZOFFSETFROM:+0100
TZOFFSETTO:+0200
TZNAME:CEST
DTSTART:20190331T010000
END:DAYLIGHT
BEGIN:STANDARD
TZOFFSETFROM:+0200
TZOFFSETTO:+0100
TZNAME:CET
DTSTART:20191027T010000
END:STANDARD
END:VTIMEZONE
BEGIN:VEVENT
DTSTART;TZID=Europe/Madrid:20190510T190000
DTEND;TZID=Europe/Madrid:20190510T200000
DTSTAMP:20260423T013120
CREATED:20190430T145952Z
LAST-MODIFIED:20190430T145952Z
UID:26215-1557514800-1557518400@www.alpedrete.es
SUMMARY:La pareja: sueños o realidad
DESCRIPTION:De la mano de la psicóloga María Helena Ibáñez García\, haremos una reflexión sobre el universo de la pareja. Hablaremos sobre qué son las parejas\, para qué nos emparejamos\, qué buscamos de una pareja… relacionando todo ello con el momento histórico y social que vivimos actualmente. Se introducirán conceptos de la psicología sistémica (sobre los sistemas o grupos humanos en los cuales estamos incluidos y a los que pertenecemos)\, todo ello en un ambiente distendido donde podamos aprender diferentes conceptos y cómo trabajamos desde la psicología sistémica constructivista\, partiendo de las inquietudes\, opiniones y necesidades de los participantes. Acercando la psicología a nuestra vida cotidiana. \n  \n
URL:https://www.alpedrete.es/evento/la-pareja-suenos-o-realidad/
LOCATION:Biblioteca Municipal de Alpedrete\, Plaza Francisco Rabal\, 2\, Alpedrete\, 28430 \, España
CATEGORIES:Charla
ATTACH;FMTTYPE=image/jpeg:https://www.alpedrete.es/wp-content/uploads/2019/04/engagement-1718244_640.jpg
END:VEVENT
END:VCALENDAR