BEGIN:VCALENDAR
VERSION:2.0
PRODID:-//Web Ayuntamiento de Alpedrete - ECPv5.0.2.1//NONSGML v1.0//EN
CALSCALE:GREGORIAN
METHOD:PUBLISH
X-WR-CALNAME:Web Ayuntamiento de Alpedrete
X-ORIGINAL-URL:https://www.alpedrete.es
X-WR-CALDESC:Eventos para Web Ayuntamiento de Alpedrete
BEGIN:VTIMEZONE
TZID:Europe/Madrid
BEGIN:DAYLIGHT
TZOFFSETFROM:+0100
TZOFFSETTO:+0200
TZNAME:CEST
DTSTART:20180325T010000
END:DAYLIGHT
BEGIN:STANDARD
TZOFFSETFROM:+0200
TZOFFSETTO:+0100
TZNAME:CET
DTSTART:20181028T010000
END:STANDARD
END:VTIMEZONE
BEGIN:VEVENT
DTSTART;TZID=Europe/Madrid:20180405T190000
DTEND;TZID=Europe/Madrid:20180405T233000
DTSTAMP:20260421T090249
CREATED:20180402T093700Z
LAST-MODIFIED:20180402T100523Z
UID:20243-1522954800-1522971000@www.alpedrete.es
SUMMARY:Pleno ordinario
DESCRIPTION:Sesión Ordinaria 5 de Abril de 2018 a las 19:00 horas\, en Casa de Cultura Asunción Balaguer. \nORDEN DEL DÍA \nPRIMERO. Acta Anterior.\nSEGUNDO. Informes Alcaldía y Concejales Delegados\nTERCERO. Modificación Presupuestaria n.2/2018 (Crédito Extraordinario)\nCUARTO. Modificación Presupuestaria n. 3/2018 (Suplemento de Crédito)\nQUINTO. Modificación Bases Ejecución Presupuesto 2018\nSEXTO. Alegaciones y Aprobación Definitiva de la Ordenanza de Actos Comunicados\nen materia de urbanismo\nSÉPTIMO. Control de órganos del gobierno\n7.1 Decretos y Resoluciones\n7.2 Ruegos y Preguntas \n
URL:https://www.alpedrete.es/evento/pleno-ordinario-3/
LOCATION:Casa de Cultura Asunción Balaguer\, Plaza Francisco Rabal\, 2\, Alpedrete\, Madrid\, 28430 \, España
CATEGORIES:Acto institucional
ATTACH;FMTTYPE=image/jpeg:https://www.alpedrete.es/wp-content/uploads/2018/04/sesion-ordinaria-pleno.jpg
END:VEVENT
END:VCALENDAR