BEGIN:VCALENDAR
VERSION:2.0
PRODID:-//Web Ayuntamiento de Alpedrete - ECPv5.0.2.1//NONSGML v1.0//EN
CALSCALE:GREGORIAN
METHOD:PUBLISH
X-WR-CALNAME:Web Ayuntamiento de Alpedrete
X-ORIGINAL-URL:https://www.alpedrete.es
X-WR-CALDESC:Eventos para Web Ayuntamiento de Alpedrete
BEGIN:VTIMEZONE
TZID:Europe/Madrid
BEGIN:DAYLIGHT
TZOFFSETFROM:+0100
TZOFFSETTO:+0200
TZNAME:CEST
DTSTART:20220327T010000
END:DAYLIGHT
BEGIN:STANDARD
TZOFFSETFROM:+0200
TZOFFSETTO:+0100
TZNAME:CET
DTSTART:20221030T010000
END:STANDARD
END:VTIMEZONE
BEGIN:VEVENT
DTSTART;VALUE=DATE:20220908
DTEND;VALUE=DATE:20220928
DTSTAMP:20260423T233809
CREATED:20220912T114149Z
LAST-MODIFIED:20220912T114157Z
UID:40677-1662595200-1664323199@www.alpedrete.es
SUMMARY:Exposición de retratos "Ramo de Maravillosas"
DESCRIPTION:\n\n\n\n\n\n\n\nLa maravilla es una flor que dio nombre a uno de los barrios más conocidos de Madrid: el Barrio de Maravillas o Malasaña. Esta exposición presenta una colección de retratos de las mujeres escritoras\, pensadoras\, heroínas\, una virgen y una fantasma\, que allí vivieron\, porque un barrio no es solo las calles que lo trazan o las casas que lo forman sino también las gentes que lo habitan y transitan.Los retratos están ilustrados por Jesús Gabán para el libro Maravillosas\, de Libros de las Malas Compañías. \nLa exposición irá acompañada de un Taller de retratos para los más pequeños el sábado 17 de septiembre. Para el taller se requiere previa inscripción en la biblioteca (91.857.92.11) \n \n\n\n\n\n\n\n\n\n
URL:https://www.alpedrete.es/evento/exposicion-de-retratos-ramo-de-maravillosas/
LOCATION:Casa de Cultura Asunción Balaguer\, Plaza Francisco Rabal\, 2\, Alpedrete\, Madrid\, 28430 \, España
CATEGORIES:Arte/Pintura,Cultura,Exposición,Biblioteca Municipal
END:VEVENT
BEGIN:VEVENT
DTSTART;TZID=Europe/Madrid:20220921T110000
DTEND;TZID=Europe/Madrid:20220921T120000
DTSTAMP:20260423T233809
CREATED:20220920T111535Z
LAST-MODIFIED:20220920T111535Z
UID:41752-1663758000-1663761600@www.alpedrete.es
SUMMARY:Sesión libre de ejercicio físico suave
DESCRIPTION:El miércoles 21 de septiembre\, de 11:00 a 12:00 horas tendrá lugar una sesión libre de “ejercicio físico suave” impartida por la Susana Guillén López\, monitora deportiva y entrenadora nacional de gimnasia rítmica. \nEsta actividad pretende fomentar los hábitos saludables que mejoren las condiciones de vida de las personas afectadas por la diabetes. \nToda la información sobre las jornadas  y su programación en la entrada “Alpedrete celebra la semana para la prevención y el tratamiento de la Diabetes tipo 2” \n
URL:https://www.alpedrete.es/evento/sesion-libre-de-ejercicio-fisico-suave/
LOCATION:Centro de Mayores Los Canteros de Alpedrete\, Plaza de la Constitución\, s/n\, Alpedrete\, España
CATEGORIES:Charla
ATTACH;FMTTYPE=image/jpeg:https://www.alpedrete.es/wp-content/uploads/2022/09/Cartel-diabetes-1.jpg
END:VEVENT
END:VCALENDAR