BEGIN:VCALENDAR
VERSION:2.0
PRODID:-//Web Ayuntamiento de Alpedrete - ECPv5.0.2.1//NONSGML v1.0//EN
CALSCALE:GREGORIAN
METHOD:PUBLISH
X-WR-CALNAME:Web Ayuntamiento de Alpedrete
X-ORIGINAL-URL:https://www.alpedrete.es
X-WR-CALDESC:Eventos para Web Ayuntamiento de Alpedrete
BEGIN:VTIMEZONE
TZID:Europe/Madrid
BEGIN:DAYLIGHT
TZOFFSETFROM:+0100
TZOFFSETTO:+0200
TZNAME:CEST
DTSTART:20160327T010000
END:DAYLIGHT
BEGIN:STANDARD
TZOFFSETFROM:+0200
TZOFFSETTO:+0100
TZNAME:CET
DTSTART:20161030T010000
END:STANDARD
END:VTIMEZONE
BEGIN:VEVENT
DTSTART;TZID=Europe/Madrid:20160924T200000
DTEND;TZID=Europe/Madrid:20160924T210000
DTSTAMP:20260422T212249
CREATED:20160819T112228Z
LAST-MODIFIED:20160819T112228Z
UID:8910-1474747200-1474750800@www.alpedrete.es
SUMMARY:Teatro: "Poétika"\, de Ángel García Suárez
DESCRIPTION:Una dramaturgia acerca de la sensibilidad del ser humano\, a través de la poesía clásica. Un monólogo actual y cercano de un personaje que es una especie de vagabundo cósmico\, con apariencia de bufón chaplinesco y postapocalíptico\, unas veces\, mimo\, otras clown . Cuyo discurso nos introduce en cada una de las poesías\, dándoles un sentido y acercándolas a la actualidad con firmeza y sensibilidad\, esclareciendo y aportando una visión emocional a unos textos conocidos. Así tratará del sentimiento\, de la historia\, del amor\,… y del sueño y la realidad\, transportando al espectador más allá del mundo\, aunque\, paradójicamente\, ese viaje le haga interrogarse con profundidad y fantasía acerca del sentido de su propia vida. \nPrecio: 6€ entrada general y 3€ entrada reducida. Reserva anticipada de entradas desde el lunes 19 de septiembre en el 918571590 \n
URL:https://www.alpedrete.es/evento/teatro-poetika-angel-garcia-suarez/
LOCATION:Casa de Cultura Asunción Balaguer\, Plaza Francisco Rabal\, 2\, Alpedrete\, Madrid\, 28430 \, España
CATEGORIES:Teatro
ATTACH;FMTTYPE=image/jpeg:https://www.alpedrete.es/wp-content/uploads/2016/08/poetika.jpg
END:VEVENT
END:VCALENDAR