BEGIN:VCALENDAR
VERSION:2.0
PRODID:-//Web Ayuntamiento de Alpedrete - ECPv5.0.2.1//NONSGML v1.0//EN
CALSCALE:GREGORIAN
METHOD:PUBLISH
X-WR-CALNAME:Web Ayuntamiento de Alpedrete
X-ORIGINAL-URL:https://www.alpedrete.es
X-WR-CALDESC:Eventos para Web Ayuntamiento de Alpedrete
BEGIN:VTIMEZONE
TZID:Europe/Madrid
BEGIN:DAYLIGHT
TZOFFSETFROM:+0100
TZOFFSETTO:+0200
TZNAME:CEST
DTSTART:20250330T010000
END:DAYLIGHT
BEGIN:STANDARD
TZOFFSETFROM:+0200
TZOFFSETTO:+0100
TZNAME:CET
DTSTART:20251026T010000
END:STANDARD
END:VTIMEZONE
BEGIN:VEVENT
DTSTART;VALUE=DATE:20251222
DTEND;VALUE=DATE:20251224
DTSTAMP:20260424T234915
CREATED:20251205T181730Z
LAST-MODIFIED:20251205T183520Z
UID:154174-1766361600-1766534399@www.alpedrete.es
SUMMARY:Talleres navideños de decoración floral
DESCRIPTION:El Centro Cultural Asunción Balaguer ofrece dos talleres de decoración floral pensados para transformar la casa en un rincón aún más especial en estas fechas. \nLos talleres se celebrarán los días 22 y 23 de diciembre\, de 11:00 a 13:00 h\, en el Centro Cultural Asunción Balaguer: \n\n\n22 de diciembre: Arreglo floral \n\n\n23 de diciembre: Letra floral \n\n\nA lo largo de las dos mañanas\, los participantes aprenderán a combinar flores\, verdes y pequeños elementos decorativos para crear composiciones navideñas originales\, perfectas para regalar o para dar un toque distinto al salón\, la entrada o la mesa de Nochebuena. \nLa actividad está dirigida a adultos y niños a partir de 12 años. Las inscripciones podrán realizarse desde el 9 de diciembre en el Centro Cultural y las plazas son limitadas. \n\n\n\n
URL:https://www.alpedrete.es/evento/talleres-navidenos-de-decoracion-floral-2/
LOCATION:Centro Cultural Asunción Balaguer\, Plaza de Francisco Rabal\, Alpedrete\, Madrid\, 28430\, España
ATTACH;FMTTYPE=image/jpeg:https://www.alpedrete.es/wp-content/uploads/2025/12/banner-cultural-345x260-taller-flores-01-baja.jpg
END:VEVENT
END:VCALENDAR