BEGIN:VCALENDAR
VERSION:2.0
PRODID:-//Web Ayuntamiento de Alpedrete - ECPv5.0.2.1//NONSGML v1.0//EN
CALSCALE:GREGORIAN
METHOD:PUBLISH
X-WR-CALNAME:Web Ayuntamiento de Alpedrete
X-ORIGINAL-URL:https://www.alpedrete.es
X-WR-CALDESC:Eventos para Web Ayuntamiento de Alpedrete
BEGIN:VTIMEZONE
TZID:Europe/Madrid
BEGIN:DAYLIGHT
TZOFFSETFROM:+0100
TZOFFSETTO:+0200
TZNAME:CEST
DTSTART:20250330T010000
END:DAYLIGHT
BEGIN:STANDARD
TZOFFSETFROM:+0200
TZOFFSETTO:+0100
TZNAME:CET
DTSTART:20251026T010000
END:STANDARD
END:VTIMEZONE
BEGIN:VEVENT
DTSTART;TZID=Europe/Madrid:20251222T113000
DTEND;TZID=Europe/Madrid:20251222T210000
DTSTAMP:20260421T202526
CREATED:20251125T113500Z
LAST-MODIFIED:20251125T113500Z
UID:151678-1766403000-1766437200@www.alpedrete.es
SUMMARY:Salida especial de Navidad a Puy du Fou (Toledo) para mayores
DESCRIPTION:Las personas mayores de Alpedrete tienen esta Navidad una propuesta muy especial: una salida de día completo al parque temático Puy du Fou\, en Toledo\, el lunes 22 de diciembre de 2025.La actividad está organizada por la Concejalía de Servicios Sociales\, y pretende ser una ocasión para compartir tiempo\, pasear y disfrutar de los espectáculos históricos en compañía. \nQuién puede participar\nLa salida está dirigida a: \n\n\nPersonas mayores de 65 años o pensionistas empadronadas en Alpedrete. \n\n\nSus familiares directos (hijos y nietos) a partir de 10 años. \n\n\nPrograma de la salida\n\n\nFecha: lunes 22 de diciembre de 2025 \n\n\nDestino: parque temático Puy du Fou (Toledo) \n\n\nAutobuses: \n\n\n11:30 h desde la Plaza de la Constitución (Alpedrete) \n\n\n11:40 h desde Los Negrales (junto al supermercado Aldi) \n\n\n\n\nRegreso aproximado: 21:00 h desde Puy du Fou \n\n\n\nPrecios y qué incluye\n\n\nPersonas empadronadas en Alpedrete: 51 € por persona \n\n\nPersonas no empadronadas: 85 € por persona \n\n\nLos familiares directos solo podrán acogerse al precio reducido de empadronados si también están empadronados en el municipio; en caso contrario se aplicará la tarifa de no empadronados. \nEl precio incluye: \n\n\nTransporte en autobús ida y vuelta \n\n\nEntrada al parque temático Puy du Fou \n\n\nSeguro colectivo de accidentes \n\n\nGuías acompañantes durante toda la actividad \n\n\nPlazas y orden de inscripción\n\n\nPlazas máximas: 53 personas \n\n\nLa Concejalía de Servicios Sociales se reserva el derecho de suspender la actividad si no se alcanza un mínimo de 45 participantes. \n\n\nLas plazas se adjudican por orden de inscripción. Se pueden realizar hasta el 28 de noviembre de 2025 en el Centro de Mayores Los Canteros (plaza de la Constitución)\, de lunes a viernes\, de 10:00 a 13:00 h y de 16:00 a 20:00 h. Tienen preferencia las personas empadronadas en Alpedrete. \n\n\nLas personas no empadronadas pasarán directamente a lista de espera y se les llamará\, por orden de inscripción\, en caso de quedar plazas vacantes a partir del 1 de diciembre. \n\n\nEn el momento de la inscripción se entregarán las normas reguladoras de la salida y los datos bancarios para realizar el ingreso. El pago del 100 % del importe deberá efectuarse antes del 28 de noviembre a las 20:00 h. La inscripción quedará confirmada cuando se entregue el justificante de pago en el Centro de Mayores. \nLas personas que sean llamadas desde la lista de espera dispondrán de un máximo de 48 horas para realizar el pago y presentar el justificante. Si no lo hacen en ese plazo\, la plaza pasará a la siguiente persona en la lista. \nImportante\n\n\nLas plazas son personales: solo se adjudican a la persona a cuyo nombre se ha hecho la inscripción y figura en el justificante de pago\, por lo que no se permiten cambios de titular. \n\n\nNo se efectuarán devoluciones\, salvo en caso de causa médica justificada que impida la participación o por causas imputables a la Administración. \n\n\nLas normas reguladoras completas pueden consultarse en el Centro de Mayores y en este enlace: Normas reguladoras salida Puy Du Fou \n\n\n
URL:https://www.alpedrete.es/evento/salida-especial-de-navidad-a-puy-du-fou-toledo-para-mayores/
LOCATION:Alpedrete
CATEGORIES:THAM
ATTACH;FMTTYPE=image/jpeg:https://www.alpedrete.es/wp-content/uploads/2025/11/banner-cultural-345x260-01.jpg
END:VEVENT
END:VCALENDAR