BEGIN:VCALENDAR
VERSION:2.0
PRODID:-//Web Ayuntamiento de Alpedrete - ECPv5.0.2.1//NONSGML v1.0//EN
CALSCALE:GREGORIAN
METHOD:PUBLISH
X-WR-CALNAME:Web Ayuntamiento de Alpedrete
X-ORIGINAL-URL:https://www.alpedrete.es
X-WR-CALDESC:Eventos para Web Ayuntamiento de Alpedrete
BEGIN:VTIMEZONE
TZID:Europe/Madrid
BEGIN:DAYLIGHT
TZOFFSETFROM:+0100
TZOFFSETTO:+0200
TZNAME:CEST
DTSTART:20240331T010000
END:DAYLIGHT
BEGIN:STANDARD
TZOFFSETFROM:+0200
TZOFFSETTO:+0100
TZNAME:CET
DTSTART:20241027T010000
END:STANDARD
END:VTIMEZONE
BEGIN:VEVENT
DTSTART;TZID=Europe/Madrid:20241031T183000
DTEND;TZID=Europe/Madrid:20241031T210000
DTSTAMP:20260421T095732
CREATED:20241029T134524Z
LAST-MODIFIED:20241031T083715Z
UID:101539-1730399400-1730408400@www.alpedrete.es
SUMMARY:Cancelado: Halloween family party
DESCRIPTION:\nActualización 31/10/24 \n\nInformamos a todos los vecinos que debido a la declaración de tres días de luto nacional por la tragedia ocasionada por la DANA en España\, desde el Ayuntamiento hemos tomado la decisión de posponer la fiesta de Halloween que teníamos programada hoy jueves 31 de octubre. Próximamente informaremos de la nueva fecha.\n\n\nEn estos momentos es prioritario mostrar nuestro respeto y solidaridad hacia las víctimas y sus familias. Por este motivo se convoca un minuto de silencio hoy jueves 31 a las 12:00 h\, en la plaza de la Villa.\n\n  \nActualización 29/10/24 \nInformamos a los vecinos y visitantes que se suspende el pasacalles previsto el jueves 31 a las 17:30 h\, por condiciones climatológicas adversas. Se mantienen todas las demás actividades programadas. \n\n\n14/10/24\n\n¡Halloween llega a Alpedrete! El próximo jueves 31 de octubre\, nuestro municipio se llenará de calabazas y misterio para celebrar una de las fiestas más esperadas por las familias. Esa tarde\, las calles de Alpedrete se prepararán para noche más terrorífica del año\, ofreciendo actividades para disfrutar a lo grande\, tanto los más pequeños como sus mayores.\nDiversión familiar en el Centro Cultural \nA partir de las 18:30 h\, el Centro Cultural se convertirá en un auténtico escenario del terror\, ofreciendo actividades interactivas para los participantes. Artistas especializados en maquillaje\, globoflexia y malabares animarán la tarde con espectáculos. También tendremos coreografías\, concurso de disfraces y sorpresas. \nLas actividades están pensadas para edades comprendidas entre los 4 y 14 años y es necesaria la inscripción para participar\, realizándola a través de este formulario. Dichas inscripciones tienen un cupo de 200 niños participantes. Una vez completado el cupo\, las demás peticiones pasarán a lista de espera. (*) \nEl formulario de inscripción estará disponible hasta el viernes 25 de octubre a las 15:00 h. \nImportante: los menores deberán ir acompañados al menos de un adulto mayor de edad. Cada adulto podrá inscribir máximo cuatro niños a su cargo a través del formulario. \n  \nConcurso de disfraces\nA las 20:00 h\, daremos inicio al concurso de disfraces\, donde se premiarán los trajes más originales y terroríficos. ¡Habrá regalos para los ganadores! Se podrá participar en dos categorías: de 4 a 8 años y de 9 a 14 años. \nLa animación continuará hasta las 20:30 h\, con personajes escalofriantes que no vamos a desvelaros porque forman parte del misterio. Interactuarán con el público a lo largo de toda la tarde. \n  \n¡No te lo puedes perder! Ven a celebrar Halloween en Alpedrete y vive una experiencia en familia y terroríficamente divertida. Happy Halloween! \n(*) Lea atentamente las condiciones de participación en el formulario de inscripción\n\n
URL:https://www.alpedrete.es/evento/halloween-family-party-2/
LOCATION:Casa de Cultura Asunción Balaguer\, Plaza Francisco Rabal\, 2\, Alpedrete\, Madrid\, 28430 \, España
CATEGORIES:Fiesta
ATTACH;FMTTYPE=image/jpeg:https://www.alpedrete.es/wp-content/uploads/2024/10/banner-1.jpg
END:VEVENT
END:VCALENDAR