BEGIN:VCALENDAR
VERSION:2.0
PRODID:-//Web Ayuntamiento de Alpedrete - ECPv5.0.2.1//NONSGML v1.0//EN
CALSCALE:GREGORIAN
METHOD:PUBLISH
X-WR-CALNAME:Web Ayuntamiento de Alpedrete
X-ORIGINAL-URL:https://www.alpedrete.es
X-WR-CALDESC:Eventos para Web Ayuntamiento de Alpedrete
BEGIN:VTIMEZONE
TZID:Europe/Madrid
BEGIN:DAYLIGHT
TZOFFSETFROM:+0100
TZOFFSETTO:+0200
TZNAME:CEST
DTSTART:20250330T010000
END:DAYLIGHT
BEGIN:STANDARD
TZOFFSETFROM:+0200
TZOFFSETTO:+0100
TZNAME:CET
DTSTART:20251026T010000
END:STANDARD
END:VTIMEZONE
BEGIN:VEVENT
DTSTART;TZID=Europe/Madrid:20250714T190000
DTEND;TZID=Europe/Madrid:20250714T220000
DTSTAMP:20260421T102614
CREATED:20250709T104416Z
LAST-MODIFIED:20250709T104551Z
UID:141228-1752519600-1752530400@www.alpedrete.es
SUMMARY:Fiesta homenaje a los mayores en las Fiestas del Carmen 2025
DESCRIPTION:\nEl barrio de Los Negrales de Alpedrete celebra las fiestas en honor de la Virgen del Carmen. Unos días de tradición arraigada\, para compartir en hermandad fiesta\, devoción  y alegría\, entre familia y amigos. \nRomería\, procesiones\, bailes\, música\, caballos\, juegos… una gran variedad de actividades para pasar unos días en armonía todos juntos. \nEl programa de fiestas completo se puede descargar en el siguiente enlace. \n\nHomenaje a los mayores\nCelebraremos este evento tan especial el próximo lunes 14 de julio\, de 19:00 a 22:00 horas\, en la terraza del Hogar del Pensionista de Los Negrales. \nSerá una tarde de merienda y baile dedicada a los jóvenes de 60 años en adelante\, que contará con la actuación en directo del Trío Sabor Sabor\, para disfrutar de música y buen ambiente. \nPara participar en esta actividad es necesario inscribirse antes del viernes 11 de julio\, contactando con: \n\n\nLos Negrales: Manolita – 610 54 30 52 \n\n\nConcejalía de Mayores\, Alpedrete: Aurora – 649 55 39 52 \n\n\n\n\n\n\n\n\n\n\n\n\n\n\n\n\n\n\n
URL:https://www.alpedrete.es/evento/fiesta-homenaje-a-los-mayores-en-las-fiestas-del-carmen-2025/
LOCATION:Centro de Mayores Los Negrales\, Calle Santiago Rodríguez Conde 14\, Alpedrete\, Madrid\, 28430\, España
CATEGORIES:Mayores,Fiestas
ATTACH;FMTTYPE=image/jpeg:https://www.alpedrete.es/wp-content/uploads/2025/07/373x280-2-01.jpg
END:VEVENT
END:VCALENDAR