BEGIN:VCALENDAR
VERSION:2.0
PRODID:-//Web Ayuntamiento de Alpedrete - ECPv5.0.2.1//NONSGML v1.0//EN
CALSCALE:GREGORIAN
METHOD:PUBLISH
X-WR-CALNAME:Web Ayuntamiento de Alpedrete
X-ORIGINAL-URL:https://www.alpedrete.es
X-WR-CALDESC:Eventos para Web Ayuntamiento de Alpedrete
BEGIN:VTIMEZONE
TZID:Europe/Madrid
BEGIN:DAYLIGHT
TZOFFSETFROM:+0100
TZOFFSETTO:+0200
TZNAME:CEST
DTSTART:20210328T010000
END:DAYLIGHT
BEGIN:STANDARD
TZOFFSETFROM:+0200
TZOFFSETTO:+0100
TZNAME:CET
DTSTART:20211031T010000
END:STANDARD
END:VTIMEZONE
BEGIN:VEVENT
DTSTART;VALUE=DATE:20210310
DTEND;VALUE=DATE:20210316
DTSTAMP:20260421T170644
CREATED:20210308T140601Z
LAST-MODIFIED:20210310T102424Z
UID:34489-1615334400-1615852799@www.alpedrete.es
SUMMARY:Exposición: "Mujeres en la frontera"
DESCRIPTION:La exposición “Mujeres en la frontera”\, integrada por 15 fotografías\, retrata la realidad de decenas de mujeres que cruzan el barrio chino cerca de Beni-Enzar en Melilla\, entre España y Marruecos. Lo hacen cargadas con grandes fardos a la espalda donde portan los productos que luego otros venderán. Las mujeres\, y en este caso literalmente\, soportan el peso de la economía a ambos lados de la valla. \nEl autor\, Fernando de Berro\, es un fotoperiodista y cineasta nacido en Madrid cuyos trabajos están enfocados hacia asuntos relacionados con los Derechos Humanos. Entre otros medios de comunicación ha publicado sus trabajos en la BBC\, Stern\, El País\, Le Soir\, The Irish Times\, The Toronto Star\, De Standaard\, Aftenposten\, New International o Der Sonntag. \nLa exposición se puede visitar de 9:30 a 21:00h de lunes a viernes\, y los sábados de 9:30 a 14:30 h\, del 10 al 15 de marzo en la Casa de Cultura Asunción Balaguer. \nEs necesario cumplir con las medidas anti Covid-19 del espacio\, como son la higiene de manos\, mantener la distancia mínima de seguridad de 1\,5 metros y respetar el aforo de la sala\, que actualmente se encuentra en 10 personas para la visita de las exposiciones. \nInfórmate del resto de actividades programadas con motivo de la celebración del 8 de marzo\, Día Internacional de la Mujer: \nActividades para conmemorar el 8 de marzo\, Día Internacional de la Mujer \n
URL:https://www.alpedrete.es/evento/exposicion-mujeres-en-la-frontera/
LOCATION:Centro Cultural Asunción Balaguer\, Plaza de Francisco Rabal\, Alpedrete\, Madrid\, 28430\, España
CATEGORIES:Exposición
ATTACH;FMTTYPE=image/jpeg:https://www.alpedrete.es/wp-content/uploads/2021/02/banner-tham-ig.jpg
END:VEVENT
END:VCALENDAR