BEGIN:VCALENDAR
VERSION:2.0
PRODID:-//Web Ayuntamiento de Alpedrete - ECPv5.0.2.1//NONSGML v1.0//EN
CALSCALE:GREGORIAN
METHOD:PUBLISH
X-WR-CALNAME:Web Ayuntamiento de Alpedrete
X-ORIGINAL-URL:https://www.alpedrete.es
X-WR-CALDESC:Eventos para Web Ayuntamiento de Alpedrete
BEGIN:VTIMEZONE
TZID:Europe/Madrid
BEGIN:DAYLIGHT
TZOFFSETFROM:+0100
TZOFFSETTO:+0200
TZNAME:CEST
DTSTART:20250330T010000
END:DAYLIGHT
BEGIN:STANDARD
TZOFFSETFROM:+0200
TZOFFSETTO:+0100
TZNAME:CET
DTSTART:20251026T010000
END:STANDARD
END:VTIMEZONE
BEGIN:VEVENT
DTSTART;VALUE=DATE:20250703
DTEND;VALUE=DATE:20250723
DTSTAMP:20260419T161027
CREATED:20250630T193906Z
LAST-MODIFIED:20250702T103849Z
UID:139800-1751500800-1753228799@www.alpedrete.es
SUMMARY:Exposición Frida Kahlo y Diego Rivera
DESCRIPTION:México\, década de 1930. La revolución había terminado ¡empezaba la reconstrucción! Dos pintores mexicanos participaron en esta renovación: Diego Rivera y Frida Kahlo. El ilustre pintor muralista conoció a una estrella en ciernes ¡Y hubo un flechazo! Ambos formaron una pareja de artistas mítica del periodo de entreguerras.\n\nMuchos conocen la figura y la obra de Frida\, pero el tercer título de la serie DÚO va mucho más allá\, al presentar a su pareja sentimental y artística\, Diego Rivera\, como su principal provocador\, su mentor\, su ayudante y finalmente su perdición. Durante algunos años\, Diego y Frida fueron el tándem más innovador\, moderno y atrevido del panorama artístico mundial. \nEsta exposición ofrece imágenes y bocetos referidos al libro de la editorial Mosquito Frida Kahlo y Diego Rivera. Cada imagen viene acompañada de un texto sobre la relación entre ambos artistas y de una reflexión sobre la propia ilustración. Algunas ilustraciones se corresponden con dobles páginas del libro\, otras son detalles de esas ilustraciones y otras son imágenes no publicadas que sitúan a los personajes en la realidad. \nLas ilustraciones corresponden a Tánia García\, una de las ilustradoras españolas de más proyección internacional. \nLa muestra\, que circulará por los municipios de la Comunidad de Madrid entre febrero de 2025 y febrero de 2026\, va acompañada de un taller para público infantil a partir de 6 años bajo el título El taller de Frida. \n\n\n  \n\n
URL:https://www.alpedrete.es/evento/exposicion-frida-kahlo-y-diego-rivera/
LOCATION:Centro Cultural Asunción Balaguer\, Plaza de Francisco Rabal\, Alpedrete\, Madrid\, 28430\, España
ATTACH;FMTTYPE=image/jpeg:https://www.alpedrete.es/wp-content/uploads/2025/06/373x280-01-2.jpg
END:VEVENT
END:VCALENDAR