BEGIN:VCALENDAR
VERSION:2.0
PRODID:-//Web Ayuntamiento de Alpedrete - ECPv5.0.2.1//NONSGML v1.0//EN
CALSCALE:GREGORIAN
METHOD:PUBLISH
X-WR-CALNAME:Web Ayuntamiento de Alpedrete
X-ORIGINAL-URL:https://www.alpedrete.es
X-WR-CALDESC:Eventos para Web Ayuntamiento de Alpedrete
BEGIN:VTIMEZONE
TZID:Europe/Madrid
BEGIN:DAYLIGHT
TZOFFSETFROM:+0100
TZOFFSETTO:+0200
TZNAME:CEST
DTSTART:20250330T010000
END:DAYLIGHT
BEGIN:STANDARD
TZOFFSETFROM:+0200
TZOFFSETTO:+0100
TZNAME:CET
DTSTART:20251026T010000
END:STANDARD
END:VTIMEZONE
BEGIN:VEVENT
DTSTART;TZID=Europe/Madrid:20250523T123000
DTEND;TZID=Europe/Madrid:20250523T133000
DTSTAMP:20260424T011610
CREATED:20250520T133408Z
LAST-MODIFIED:20250520T133408Z
UID:139166-1748003400-1748007000@www.alpedrete.es
SUMMARY:Encierros y suelta de reses
DESCRIPTION:Consulta toda la programación de las fiestas en honor a Santa Quiteria aquí \n\n  \n\n
URL:https://www.alpedrete.es/evento/encierros-y-suelta-de-reses-2/
LOCATION:Plaza de toros\, Calle Puerta de Abajo\, 1\, Alpedrete\, España
CATEGORIES:Fiestas patronales
ATTACH;FMTTYPE=image/jpeg:https://www.alpedrete.es/wp-content/uploads/2025/05/encierros-instagram-1080x1350-01-scaled.jpg
END:VEVENT
END:VCALENDAR