BEGIN:VCALENDAR
VERSION:2.0
PRODID:-//Web Ayuntamiento de Alpedrete - ECPv5.0.2.1//NONSGML v1.0//EN
CALSCALE:GREGORIAN
METHOD:PUBLISH
X-WR-CALNAME:Web Ayuntamiento de Alpedrete
X-ORIGINAL-URL:https://www.alpedrete.es
X-WR-CALDESC:Eventos para Web Ayuntamiento de Alpedrete
BEGIN:VTIMEZONE
TZID:Europe/Madrid
BEGIN:DAYLIGHT
TZOFFSETFROM:+0100
TZOFFSETTO:+0200
TZNAME:CEST
DTSTART:20250330T010000
END:DAYLIGHT
BEGIN:STANDARD
TZOFFSETFROM:+0200
TZOFFSETTO:+0100
TZNAME:CET
DTSTART:20251026T010000
END:STANDARD
END:VTIMEZONE
BEGIN:VEVENT
DTSTART;TZID=Europe/Madrid:20251129T180000
DTEND;TZID=Europe/Madrid:20251129T200000
DTSTAMP:20260419T195947
CREATED:20251125T162505Z
LAST-MODIFIED:20251125T183328Z
UID:151744-1764439200-1764446400@www.alpedrete.es
SUMMARY:El circo del señor Julián
DESCRIPTION:El próximo sábado 29 de noviembre\, se llevará a cabo la última cita de la agenda cultural en noviembre\, antes de arrancar con toda la programación de Navidad. “El circo del señor Julián”  llega a la localidad para hacer disfrutar a grandes y pequeños del humor\, la magia y el espectáculo. \nPendorcho (el payaso en prácticas) preparará todo para que la función salga perfecta… Cuando el Señor Julián se dispone acomenzar el espectáculo\, Pendorcho le advierte de que todos los artistas se han marchado. Incluida Beba\, la estrella de la compañía!¿Cómo saldrán de esta situación? ¿Podrán sacar adelante la función ellos dos solos?  ¡Pasen y vean! El circo del Señor Julián. Un show de Circo Magia y humor para toda la familia. \nSábado 29 de noviembre\, 18:00 horas \nCentro Cultural Asunción Balaguer \nUn espectáculo para toda la familia. \nEntradas disponibles en este enlace \n
URL:https://www.alpedrete.es/evento/el-circo-del-senor-julian/
LOCATION:Centro Cultural Asunción Balaguer\, Plaza de Francisco Rabal\, Alpedrete\, Madrid\, 28430\, España
ATTACH;FMTTYPE=image/jpeg:https://www.alpedrete.es/wp-content/uploads/2025/11/instagram-POST-1080x1350-2-01-1-scaled.jpg
END:VEVENT
END:VCALENDAR