BEGIN:VCALENDAR
VERSION:2.0
PRODID:-//Web Ayuntamiento de Alpedrete - ECPv5.0.2.1//NONSGML v1.0//EN
CALSCALE:GREGORIAN
METHOD:PUBLISH
X-WR-CALNAME:Web Ayuntamiento de Alpedrete
X-ORIGINAL-URL:https://www.alpedrete.es
X-WR-CALDESC:Eventos para Web Ayuntamiento de Alpedrete
BEGIN:VTIMEZONE
TZID:Europe/Madrid
BEGIN:DAYLIGHT
TZOFFSETFROM:+0100
TZOFFSETTO:+0200
TZNAME:CEST
DTSTART:20250330T010000
END:DAYLIGHT
BEGIN:STANDARD
TZOFFSETFROM:+0200
TZOFFSETTO:+0100
TZNAME:CET
DTSTART:20251026T010000
END:STANDARD
END:VTIMEZONE
BEGIN:VEVENT
DTSTART;TZID=Europe/Madrid:20250125T120000
DTEND;TZID=Europe/Madrid:20250125T130000
DTSTAMP:20260421T140120
CREATED:20250121T125116Z
LAST-MODIFIED:20250121T125155Z
UID:103014-1737806400-1737810000@www.alpedrete.es
SUMMARY:Cuentacuentos en inglés “Sneezy the snowman”
DESCRIPTION:El sábado 25 de enero disfrutaremos de un nuevo cuentacuentos en inglés de nuestra Biblioteca Municipal. En esta ocasión con el cuento: “Sneezy the snowman” \n«In this funny story with playful mixed-media illustrations\, a snowman tries to warm himself up. But what happens when a snowman gets warm?» \nUn cuentacuentos para divertirse y aprender en familia. Te esperamos. \n\n
URL:https://www.alpedrete.es/evento/cuentacuentos-en-ingles-sneezy-the-snowman/
LOCATION:Biblioteca Municipal\, Plaza de Francisco Rabal\, 2\, Alpedrete\, Madrid\, 28430\, España
CATEGORIES:Cuentacuentos
ATTACH;FMTTYPE=image/jpeg:https://www.alpedrete.es/wp-content/uploads/2024/12/Cuentacuentos-en-ingles-2025-01-25-Sneezzy-the-snowman.jpg
END:VEVENT
END:VCALENDAR