BEGIN:VCALENDAR
VERSION:2.0
PRODID:-//Web Ayuntamiento de Alpedrete - ECPv5.0.2.1//NONSGML v1.0//EN
CALSCALE:GREGORIAN
METHOD:PUBLISH
X-WR-CALNAME:Web Ayuntamiento de Alpedrete
X-ORIGINAL-URL:https://www.alpedrete.es
X-WR-CALDESC:Eventos para Web Ayuntamiento de Alpedrete
BEGIN:VTIMEZONE
TZID:Europe/Madrid
BEGIN:DAYLIGHT
TZOFFSETFROM:+0100
TZOFFSETTO:+0200
TZNAME:CEST
DTSTART:20250330T010000
END:DAYLIGHT
BEGIN:STANDARD
TZOFFSETFROM:+0200
TZOFFSETTO:+0100
TZNAME:CET
DTSTART:20251026T010000
END:STANDARD
END:VTIMEZONE
BEGIN:VEVENT
DTSTART;TZID=Europe/Madrid:20250531T100000
DTEND;TZID=Europe/Madrid:20250531T140000
DTSTAMP:20260423T203252
CREATED:20250528T115002Z
LAST-MODIFIED:20250528T122937Z
UID:139625-1748685600-1748700000@www.alpedrete.es
SUMMARY:Contra la leucemia “Superhéroes imparables por la vida”
DESCRIPTION:\nAlpedrete acoge este fin de semana el evento contra la leucemia “Superhéroes imparables por la vida”\n\n\n\nEl Ayuntamiento de Alpedrete colabora este próximo sábado 31 de mayo en la realización de un evento de gran calado social en la lucha contra la leucemia. Se trata de una jornada organizada por la Fundación Josep Carreras con el fin de dar visibilidad y recaudar fondos en beneficio de la investigación y de los pacientes de leucemia\, linfoma\, mieloma múltiple y otros cánceres de la sangre.\n\n\n\nDesde las 10 de la mañana\, Alpedrete vivirá una jornada benéfica muy especial en la plaza de Francisco Rabal. Además\, contaremos con el apoyo de fuerzas intergalácticas con el batallón de Star Wars. La legión 501 realizará una misión en la localidad para combatir esta enfermedad. ¡No podéis faltar!\n\n\n\nPrograma\n\n10:00 Inicio del evento:\n\n Participación de Policía Municipal\, Guardia Civil\, Protección Civil y Agentes Forestales.\nPuestos de la Fundación Josep Carreras\nApertura de hinchables para los más pequeños\nPuesto para la rifa solidaria\n\n\n10:30 – 11:00 Clase de zumba\nDesde las 11:00 barras con bebida\n11:30 – 13:00 Asistencia legión 501 con desfile\n12:30 – 13:30 Magia de cerca\nDesde las 13:00 aperitivo solidario y tartas\n\nTodo amenizado con música de DJ.\n\nMás información \nLa fundación Josep Carreras lucha desde hace más de 35 años\, movidos por el desafío de conseguir que la leucemia sea\, algún día\, una enfermedad 100 % curable. En la actualidad 1 de cada 5 niños y niñas diagnosticadas y el 50% de las personas adultas continúan sin poder superar la enfermedad. La fundación también busca reducir al  mínimo los efectos secundarios de los tratamientos\, servir de acompañamiento y guía y favorecer la donación de médula ósea. \n\n\n\n\n\n\n\n  \n\n
URL:https://www.alpedrete.es/evento/contra-la-leucemia-superheroes-imparables-por-la-vida/
LOCATION:Plaza de Francisco Rabal\, Plaza de Francisco Rabal s/n\, Alpedrete\, Madrid\, 28430\, España
CATEGORIES:Evento solidario
ATTACH;FMTTYPE=image/png:https://www.alpedrete.es/wp-content/uploads/2025/05/evento-benefico-leucemia-banner.png
END:VEVENT
END:VCALENDAR