BEGIN:VCALENDAR
VERSION:2.0
PRODID:-//Web Ayuntamiento de Alpedrete - ECPv5.0.2.1//NONSGML v1.0//EN
CALSCALE:GREGORIAN
METHOD:PUBLISH
X-WR-CALNAME:Web Ayuntamiento de Alpedrete
X-ORIGINAL-URL:https://www.alpedrete.es
X-WR-CALDESC:Eventos para Web Ayuntamiento de Alpedrete
BEGIN:VTIMEZONE
TZID:Europe/Madrid
BEGIN:DAYLIGHT
TZOFFSETFROM:+0100
TZOFFSETTO:+0200
TZNAME:CEST
DTSTART:20260329T010000
END:DAYLIGHT
BEGIN:STANDARD
TZOFFSETFROM:+0200
TZOFFSETTO:+0100
TZNAME:CET
DTSTART:20261025T010000
END:STANDARD
END:VTIMEZONE
BEGIN:VEVENT
DTSTART;TZID=Europe/Madrid:20260307T190000
DTEND;TZID=Europe/Madrid:20260307T200000
DTSTAMP:20260420T235731
CREATED:20260304T090122Z
LAST-MODIFIED:20260304T090159Z
UID:163308-1772910000-1772913600@www.alpedrete.es
SUMMARY:Concierto combo de música moderna - EMMD
DESCRIPTION:\nEl Centro Cultural Asunción Balaguer acogerá el sábado 7 de marzo\, a las 19:00 h\, el Concierto del combo de música moderna de la Escuela Municipal de Música y Danza (EMMD)\, una cita para disfrutar en directo del trabajo realizado por el alumnado a lo largo del curso. La entrada será libre hasta completar aforo. \nEl concierto reunirá un repertorio con sonidos actuales y temas de diferentes estilos\, en una actuación dinámica que pone en valor el aprendizaje musical en grupo\, la interpretación en directo y la experiencia de escenario. \nLa actividad se enmarca en la programación cultural municipal y tiene como objetivo acercar la música a vecinos y visitantes\, además de ofrecer al alumnado de la EMMD una oportunidad para compartir su evolución artística con el público. \n\n\n\n\n\n\n\n\n\n\n\n\n\n\n
URL:https://www.alpedrete.es/evento/concierto-combo-de-musica-moderna-emmd/
LOCATION:Centro Cultural Asunción Balaguer\, Plaza de Francisco Rabal\, Alpedrete\, Madrid\, 28430\, España
CATEGORIES:Concierto
ATTACH;FMTTYPE=image/jpeg:https://www.alpedrete.es/wp-content/uploads/2026/03/banner-345x260-combo-01.jpg
END:VEVENT
END:VCALENDAR