BEGIN:VCALENDAR
VERSION:2.0
PRODID:-//Web Ayuntamiento de Alpedrete - ECPv5.0.2.1//NONSGML v1.0//EN
CALSCALE:GREGORIAN
METHOD:PUBLISH
X-WR-CALNAME:Web Ayuntamiento de Alpedrete
X-ORIGINAL-URL:https://www.alpedrete.es
X-WR-CALDESC:Eventos para Web Ayuntamiento de Alpedrete
BEGIN:VTIMEZONE
TZID:Europe/Madrid
BEGIN:DAYLIGHT
TZOFFSETFROM:+0100
TZOFFSETTO:+0200
TZNAME:CEST
DTSTART:20250330T010000
END:DAYLIGHT
BEGIN:STANDARD
TZOFFSETFROM:+0200
TZOFFSETTO:+0100
TZNAME:CET
DTSTART:20251026T010000
END:STANDARD
END:VTIMEZONE
BEGIN:VEVENT
DTSTART;TZID=Europe/Madrid:20250720T213000
DTEND;TZID=Europe/Madrid:20250720T230000
DTSTAMP:20260422T022817
CREATED:20250714T121852Z
LAST-MODIFIED:20250714T121852Z
UID:141578-1753047000-1753052400@www.alpedrete.es
SUMMARY:Concierto “Clásicos verano 2025”
DESCRIPTION:\nDentro del programa del Verano Cultural 2025\, el Ayuntamiento de Alpedrete organiza el concierto “Clásicos verano 2025”\, que se celebrará el próximo domingo 20 de julio a las 21:30 h en el Centro Cultural Asunción Balaguer. \nEl trío Merián nos ofrecerá un recital de cuerda con viola\, violín y violonchelo\, interpretando obras seleccionadas para disfrutar de una velada musical única. \nLa entrada es libre hasta completar aforo. \nConsulta la programación completa del Verano Cultural 2025 en este enlace \n\n\n\n\n\n\n\n\n\n\n\n\n
URL:https://www.alpedrete.es/evento/concierto-clasicos-verano-2025-2/
LOCATION:Centro Cultural Asunción Balaguer\, Plaza de Francisco Rabal\, Alpedrete\, Madrid\, 28430\, España
CATEGORIES:Concierto
ATTACH;FMTTYPE=image/jpeg:https://www.alpedrete.es/wp-content/uploads/2025/07/banner-373x280-4-011.jpg
END:VEVENT
END:VCALENDAR