BEGIN:VCALENDAR
VERSION:2.0
PRODID:-//Web Ayuntamiento de Alpedrete - ECPv5.0.2.1//NONSGML v1.0//EN
CALSCALE:GREGORIAN
METHOD:PUBLISH
X-WR-CALNAME:Web Ayuntamiento de Alpedrete
X-ORIGINAL-URL:https://www.alpedrete.es
X-WR-CALDESC:Eventos para Web Ayuntamiento de Alpedrete
BEGIN:VTIMEZONE
TZID:Europe/Madrid
BEGIN:DAYLIGHT
TZOFFSETFROM:+0100
TZOFFSETTO:+0200
TZNAME:CEST
DTSTART:20260329T010000
END:DAYLIGHT
BEGIN:STANDARD
TZOFFSETFROM:+0200
TZOFFSETTO:+0100
TZNAME:CET
DTSTART:20261025T010000
END:STANDARD
END:VTIMEZONE
BEGIN:VEVENT
DTSTART;TZID=Europe/Madrid:20260308T180000
DTEND;TZID=Europe/Madrid:20260308T190000
DTSTAMP:20260419T224546
CREATED:20260304T093134Z
LAST-MODIFIED:20260304T093134Z
UID:163324-1772992800-1772996400@www.alpedrete.es
SUMMARY:Concierto: “Cantares y cuerdas del corazón latinoamericano. Con alma de mujer”. Programación 8M
DESCRIPTION:El Centro Cultural Asunción Balaguer acogerá el domingo 8 de marzo\, a las 18:00 h\, el concierto “Cantares y cuerdas del corazón latinoamericano. Con alma de mujer”\, una propuesta musical incluida en la programación conmemorativa del Día Internacional de las Mujeres organizada por la Mancomunidad de Servicios Sociales THAM\, de la que forma parte el Ayuntamiento de Alpedrete. \nEl recital estará interpretado por Cuca Albert (voz) y Juan Oliveira (guitarra)\, y ofrecerá un recorrido sonoro por el repertorio latinoamericano desde una mirada que pone en valor la sensibilidad y la fuerza expresiva de las mujeres a través de la música y la palabra cantada. \nLa entrada será libre hasta completar aforo. \n\n\n\n\n\n\n\n\n
URL:https://www.alpedrete.es/evento/concierto-cantares-y-cuerdas-del-corazon-latinoamericano-con-alma-de-mujer-programacion-8m/
LOCATION:Centro Cultural Asunción Balaguer\, Plaza de Francisco Rabal\, Alpedrete\, Madrid\, 28430\, España
CATEGORIES:Taller
ATTACH;FMTTYPE=image/jpeg:https://www.alpedrete.es/wp-content/uploads/2026/03/banner-8m-tham.jpg
END:VEVENT
END:VCALENDAR