BEGIN:VCALENDAR
VERSION:2.0
PRODID:-//Web Ayuntamiento de Alpedrete - ECPv5.0.2.1//NONSGML v1.0//EN
CALSCALE:GREGORIAN
METHOD:PUBLISH
X-WR-CALNAME:Web Ayuntamiento de Alpedrete
X-ORIGINAL-URL:https://www.alpedrete.es
X-WR-CALDESC:Eventos para Web Ayuntamiento de Alpedrete
BEGIN:VTIMEZONE
TZID:Europe/Madrid
BEGIN:DAYLIGHT
TZOFFSETFROM:+0100
TZOFFSETTO:+0200
TZNAME:CEST
DTSTART:20240331T010000
END:DAYLIGHT
BEGIN:STANDARD
TZOFFSETFROM:+0200
TZOFFSETTO:+0100
TZNAME:CET
DTSTART:20241027T010000
END:STANDARD
END:VTIMEZONE
BEGIN:VEVENT
DTSTART;TZID=Europe/Madrid:20240510T140000
DTEND;TZID=Europe/Madrid:20240510T170000
DTSTAMP:20260425T121043
CREATED:20240430T152559Z
LAST-MODIFIED:20240430T152559Z
UID:67981-1715349600-1715360400@www.alpedrete.es
SUMMARY:Comida homenaje a nuestros mayores
DESCRIPTION:La concejalía de Mayores del Ayuntamiento de Alpedrete tiene el gusto de invitar a todos los mayores de 75 años empadronados en el municipio\, a la comida homenaje que se celebrará el próximo viernes 10 de mayo\, con motivo de las Fiestas de Santa Quiteria.\n \nTendrá lugar en el Restaurante Miravalle (Ctra. de La Coruña Km. 44) a las 13:15 h y se habilitará un autobús para aquellos que lo deseen\, con salida desde la plaza de la Villa. Se programará también una recogida en autobús desde el Hogar de Los Negrales\, a las 11:30 h. \nA las 12:00 h se celebrará una misa en la Parroquia de la Asunción de Nuestra Señora\, para todos aquellos que quieran asistir. \nPara la comida es imprescindible confirmar la asistencia antes del lunes 6 de mayo\, a través de una de estas vías: \n\n91 857 21 90 – Extensión 3003\, de lunes a viernes en horario de 9 a 14 h.\n649 55 39 52\, de lunes a viernes en horario de tarde y los fines de semana.\nPresencialmente en el Centro de Mayores Los Canteros de Alpedrete y en el de Los Negrales.\n\nBando de Alcaldía. Comida homenaje a los mayores \n\n
URL:https://www.alpedrete.es/evento/comida-homenaje-a-nuestros-mayores-3/
LOCATION:Alpedrete
CATEGORIES:Fiestas patronales,Mayores
ATTACH;FMTTYPE=image/jpeg:https://www.alpedrete.es/wp-content/uploads/2024/04/Comida-homenjae-mayores-Santa-Quiteria-2024.jpg
END:VEVENT
END:VCALENDAR