BEGIN:VCALENDAR
VERSION:2.0
PRODID:-//Web Ayuntamiento de Alpedrete - ECPv5.0.2.1//NONSGML v1.0//EN
CALSCALE:GREGORIAN
METHOD:PUBLISH
X-WR-CALNAME:Web Ayuntamiento de Alpedrete
X-ORIGINAL-URL:https://www.alpedrete.es
X-WR-CALDESC:Eventos para Web Ayuntamiento de Alpedrete
BEGIN:VTIMEZONE
TZID:Europe/Madrid
BEGIN:DAYLIGHT
TZOFFSETFROM:+0100
TZOFFSETTO:+0200
TZNAME:CEST
DTSTART:20250330T010000
END:DAYLIGHT
BEGIN:STANDARD
TZOFFSETFROM:+0200
TZOFFSETTO:+0100
TZNAME:CET
DTSTART:20251026T010000
END:STANDARD
END:VTIMEZONE
BEGIN:VEVENT
DTSTART;TZID=Europe/Madrid:20250808T220000
DTEND;TZID=Europe/Madrid:20250808T233000
DTSTAMP:20260424T193759
CREATED:20250715T145335Z
LAST-MODIFIED:20250715T145622Z
UID:141650-1754690400-1754695800@www.alpedrete.es
SUMMARY:Cine de verano: “Toy Story 4”
DESCRIPTION:El ciclo de cine al aire libre del Verano Cultural 2025 continúa en Alpedrete con la proyección de la película “Toy Story 4”\, una de las aventuras familiares más queridas de Disney-Pixar. En esta entrega\, Woody\, Buzz y el resto de los juguetes emprenden un viaje lleno de humor\, emoción y nuevos amigos como Forky\, que hará replantearse a todos el verdadero sentido de ser un juguete. \nLa cita será el viernes 8 de agosto a las 22:00 h en la Plaza de Francisco Rabal\, con entrada libre y gratuita hasta completar aforo. Una oportunidad perfecta para disfrutar del verano en familia y compartir una noche de cine bajo las estrellas\, reviviendo las entrañables historias que han acompañado a varias generaciones. \nConsulta todos los detalles de la programación del Verano Cultural en este enlace \n\n\n\n\n\n\n\n\n\n\n\n\n\n\n\n\n\n\n\n\n\n\n\n\n\n\n\n\n\n\n\n
URL:https://www.alpedrete.es/evento/cine-de-verano-toy-story-4/
LOCATION:Plaza de Francisco Rabal\, Plaza de Francisco Rabal s/n\, Alpedrete\, Madrid\, 28430\, España
CATEGORIES:Cine
ATTACH;FMTTYPE=image/jpeg:https://www.alpedrete.es/wp-content/uploads/2025/07/banner-373x280-6-01.jpg
END:VEVENT
END:VCALENDAR